BEGIN:VCALENDAR
VERSION:2.0
PRODID:-//Si que pasa! - ECPv5.0.2.1//NONSGML v1.0//EN
CALSCALE:GREGORIAN
METHOD:PUBLISH
X-WR-CALNAME:Si que pasa!
X-ORIGINAL-URL:https://siquepasa.com
X-WR-CALDESC:Eventos para Si que pasa!
BEGIN:VTIMEZONE
TZID:Europe/Paris
BEGIN:DAYLIGHT
TZOFFSETFROM:+0100
TZOFFSETTO:+0200
TZNAME:CEST
DTSTART:20200329T010000
END:DAYLIGHT
BEGIN:STANDARD
TZOFFSETFROM:+0200
TZOFFSETTO:+0100
TZNAME:CET
DTSTART:20201025T010000
END:STANDARD
END:VTIMEZONE
BEGIN:VEVENT
DTSTART;TZID=Europe/Paris:20201002T080000
DTEND;TZID=Europe/Paris:20201012T170000
DTSTAMP:20260420T132520
CREATED:20200921T182748Z
LAST-MODIFIED:20200921T182750Z
UID:7060-1601625600-1602522000@siquepasa.com
SUMMARY:AGENDA GASTRONÓMICA: Ruta de tapas en Altea
DESCRIPTION:Gastroeventos\nRuta de tapas en Altea \nDel 2 al 12 de octubre Altea celebra la ruta de tapas ‘Fruits de tardor’\, donde se podrá degustar las tapas de 16 establecimientos del pueblo. \nDel 2 al 12 de octubre Altea celebra la ruta de tapas ‘Fruits de tardor’\, donde se podrá degustar las tapas de 16 establecimientos del pueblo. \nComo todos los años los bares y restaurantes participantes proponen dos tapas\, una tradicional con productos de la tardor y otra tapa especial de la casa. \nNo te puedes perder estas jornadas gastronómicas que te harán disfrutar de la mejor gastronomía de Altea. \nPor supuesto todos los bares y restaurantes participantes aseguran la seguridad e higiene necesarias para poder disfrutar de la jornada con todas las garantías de seguridad. \nDesde la App gratuita de Gastroeventos podrás consultar y valorar todas las tapas participantes\, instálate la App y te avisaremos cuando comiencen esta jornada y todas las que se realicen en la zona. \n  \n
URL:https://siquepasa.com/evento/agenda-gastronomica-ruta-de-tapas-en-altea/
CATEGORIES:Tours
ATTACH;FMTTYPE=image/jpeg:https://siquepasa.com/wp-content/uploads/20200921_202518.jpg
END:VEVENT
END:VCALENDAR