BEGIN:VCALENDAR
VERSION:2.0
PRODID:-//Si que pasa! - ECPv5.0.2.1//NONSGML v1.0//EN
CALSCALE:GREGORIAN
METHOD:PUBLISH
X-WR-CALNAME:Si que pasa!
X-ORIGINAL-URL:https://siquepasa.com
X-WR-CALDESC:Eventos para Si que pasa!
BEGIN:VTIMEZONE
TZID:Europe/Paris
BEGIN:DAYLIGHT
TZOFFSETFROM:+0100
TZOFFSETTO:+0200
TZNAME:CEST
DTSTART:20200329T010000
END:DAYLIGHT
BEGIN:STANDARD
TZOFFSETFROM:+0200
TZOFFSETTO:+0100
TZNAME:CET
DTSTART:20201025T010000
END:STANDARD
END:VTIMEZONE
BEGIN:VEVENT
DTSTART;TZID=Europe/Paris:20201002T200000
DTEND;TZID=Europe/Paris:20201002T200000
DTSTAMP:20260420T172723
CREATED:20200930T162621Z
LAST-MODIFIED:20200930T162622Z
UID:7233-1601668800-1601668800@siquepasa.com
SUMMARY:ALACANT A ESCENA 2020-21. "DUALS"
DESCRIPTION:FLUENZ\n“DUALS” \nDANZA \nESTRENO \nObra seleccionada en el Concurso de Proyectos de Producción de teatro\, danza y circo ALACANT A ESCENA 2020 \nDÍA ACTUACIÓN: Viernes\, 2 de octubre HORARIO: 20 h. DURACIÓN: 40 minutos \nLUGAR: CENTRO CULTURAL CIGARRERAS (CAJA NEGRA) \nSINOPSIS: \nDUALS es una obra contemporánea que lleva a la reflexión el concepto de la dualidad humana\, que nace por el deseo de explorar aquellos caminos capaces de integrar los lenguajes artísticos de la danza\, la música y el visual interactivo\, para iniciar un diálogo entre disciplinas que estimule la comunicación\, las ideas y los sentidos. \nDesde la piel\, el pulso y el reflejo\, la obra transita por los conflictos derivados de la doble perspectiva de la existencia humana\, la dicotomía\, hacia la búsqueda de un estado de disponibilidad absoluta y participación total en lo existente. \nFICHA ARTISTICA: \n\nIntérpretes: Cintia Solbes\, Zula Ruíz\, Sergi Hernández y Carlos Izquierdo\nDirección: Fluenz\nCoreografía: Cintia Solbes y Zula Ruíz\nVisuales: Sergi Hernández\nComposición musical: Carlos Izquierdo\nDiseño: Fluenz\nProducción ejecutiva\, management y distribución: Fluenz\n\nVenta anticipada de entradas en https://www.entradasatualcance.com \n
URL:https://siquepasa.com/evento/alacant-a-escena-2020-21-duals/
LOCATION:Alicante\, Alicante\, Alicante\, España
CATEGORIES:Teatro
END:VEVENT
END:VCALENDAR