BEGIN:VCALENDAR
VERSION:2.0
PRODID:-//Si que pasa! - ECPv5.0.2.1//NONSGML v1.0//EN
CALSCALE:GREGORIAN
METHOD:PUBLISH
X-WR-CALNAME:Si que pasa!
X-ORIGINAL-URL:https://siquepasa.com
X-WR-CALDESC:Eventos para Si que pasa!
BEGIN:VTIMEZONE
TZID:Europe/Paris
BEGIN:DAYLIGHT
TZOFFSETFROM:+0100
TZOFFSETTO:+0200
TZNAME:CEST
DTSTART:20200329T010000
END:DAYLIGHT
BEGIN:STANDARD
TZOFFSETFROM:+0200
TZOFFSETTO:+0100
TZNAME:CET
DTSTART:20201025T010000
END:STANDARD
END:VTIMEZONE
BEGIN:VEVENT
DTSTART;TZID=Europe/Paris:20200930T200000
DTEND;TZID=Europe/Paris:20200930T200000
DTSTAMP:20260420T144246
CREATED:20200930T160757Z
LAST-MODIFIED:20200930T160758Z
UID:7223-1601496000-1601496000@siquepasa.com
SUMMARY:ALACANT A ESCENA 2020-21. "MI PADRE ES UN HOMBRE"
DESCRIPTION:\n\n\n\nCOMPAÑÍA. TRASPASARTE\n”MI PADRE ES UN HOMBRE”\nTEATRO \nESTRENO \nObra seleccionada en el Concurso de Proyectos de Producción de teatro\, danza y circo ALACANT A ESCENA 2020 \nDÍA ACTUACIÓN: Miércoles \, 30 de septiembre HORARIO: 20 h. DURACION: 90 minutos \nLUGAR: C. C. CIGARRERAS (CAJA NEGRA) \nSINOPSIS: \n“Un hombre\, en su masculinidad\, no mostrará más emoción de la necesaria\, pero en su templo\, a ojos de Dios\, un gol le hará saltar las lágrimas.” El equipo Mi Padre es un Hombre F.C. fundado por Fernando Ruiz\, padre en la ficción y en la realidad\, luchará por ganar el título de la Liga\, como verdaderos machos\, machos de corazón. Un fútbol de hombres de los de siempre. \nCo-producción de creación escénica de Cía. Traspasarte junto con Reactivos Culturales (Murcia) y Alacant a Escena 2020. En ella\, la figura del padre es el motor de la creación a través del fútbol\, la masculinidad y las emociones del hombre. Fernando\, padre de Sara Ruiz Ferrer\, actúa como tal en la ficción\, introduciéndose por primera vez en el mundo escénico. \nFICHA ARTÍSTICA: \n\nDirección: Creación colectiva de Cía. Traspasarte\nIntérpretes: Blanca Escobar\, Antonio Chumillas\, Daniel V. Carrillo\, Alberto Sabina\, Fernando Ruiz y Sara Ruiz Ferrer\nDirección y Dramaturgia: Blanca Escobar\, Sara Ruiz Ferrer y Alberto Sabina.\nDirección de arte: Ana Touméh\nVestuario: Ana Toumeh y Sara Ruiz Ferrer\nEscenografía: Joan Sabas\nEspacio sonoro: Rev Silver\nDiseño gráfico: Celia Nacimiento\nGestión y administración: Blanca Escobar\nProducción: Cía Traspasarte\, Alacant a Escena 2020 y Reactivos Culturales Murcia\nResidencia escénica en los Pabellones de Producción Artística del Cuartel de Artillería\n\nVenta anticipada de entradas en https://www.entradasatualcance.com  \n  \n\n\n\n\n
URL:https://siquepasa.com/evento/alacant-a-escena-2020-21-mi-padre-es-un-hombre/
LOCATION:Alicante\, Alicante\, Alicante\, España
CATEGORIES:Teatro
ATTACH;FMTTYPE=image/jpeg:https://siquepasa.com/wp-content/uploads/20200930_180654.jpg
END:VEVENT
END:VCALENDAR