BEGIN:VCALENDAR
VERSION:2.0
PRODID:-//Si que pasa! - ECPv5.0.2.1//NONSGML v1.0//EN
CALSCALE:GREGORIAN
METHOD:PUBLISH
X-WR-CALNAME:Si que pasa!
X-ORIGINAL-URL:https://siquepasa.com
X-WR-CALDESC:Eventos para Si que pasa!
BEGIN:VTIMEZONE
TZID:Europe/Paris
BEGIN:DAYLIGHT
TZOFFSETFROM:+0100
TZOFFSETTO:+0200
TZNAME:CEST
DTSTART:20200329T010000
END:DAYLIGHT
BEGIN:STANDARD
TZOFFSETFROM:+0200
TZOFFSETTO:+0100
TZNAME:CET
DTSTART:20201025T010000
END:STANDARD
END:VTIMEZONE
BEGIN:VEVENT
DTSTART;TZID=Europe/Paris:20200930T190000
DTEND;TZID=Europe/Paris:20200930T190000
DTSTAMP:20260420T132849
CREATED:20200930T160308Z
LAST-MODIFIED:20200930T160310Z
UID:7221-1601492400-1601492400@siquepasa.com
SUMMARY:CHARLA CON YAYO HERRERO: LA ESENCIALIDAD DE LOS CUIDADOS Y LAS PROPUESTAS ECOFEMINISTAS
DESCRIPTION:La Concejalía de Igualdad invita a conversar a Yayo Herrero en relación a las propuestas ecofeministas antes\, durante y tras la declaración de la pandemia por COVID-19. \nLa proclama feminista de que la vida debe estar en el centro pretende ser el punto de partida para una transformación profunda de la sociedad y del sistema en el que vivimos. La pandemia del COVID-19 ha dejado en evidencia cuáles son los trabajos esenciales sin los que nuestras sociedades no pueden sobrevivir. ¿Qué itinerario y estrategias podemos extraer de esta experiencia desde una lectura ecofeminista de la situación?. \nEl próximo miércoles 30 de Septiembre a las 19:00h. \nEn este enlace podrás acceder a la charla el día programado:  https://meet.jit.si/30SCharlaconYayoHerreroConcejal \n  \n
URL:https://siquepasa.com/evento/charla-con-yayo-herrero-la-esencialidad-de-los-cuidados-y-las-propuestas-ecofeministas/
LOCATION:Online
CATEGORIES:Evento online
END:VEVENT
END:VCALENDAR