BEGIN:VCALENDAR
VERSION:2.0
PRODID:-//Si que pasa! - ECPv5.0.2.1//NONSGML v1.0//EN
CALSCALE:GREGORIAN
METHOD:PUBLISH
X-WR-CALNAME:Si que pasa!
X-ORIGINAL-URL:https://siquepasa.com
X-WR-CALDESC:Eventos para Si que pasa!
BEGIN:VTIMEZONE
TZID:Europe/Paris
BEGIN:DAYLIGHT
TZOFFSETFROM:+0100
TZOFFSETTO:+0200
TZNAME:CEST
DTSTART:20200329T010000
END:DAYLIGHT
BEGIN:STANDARD
TZOFFSETFROM:+0200
TZOFFSETTO:+0100
TZNAME:CET
DTSTART:20201025T010000
END:STANDARD
END:VTIMEZONE
BEGIN:VEVENT
DTSTART;TZID=Europe/Paris:20201005T180000
DTEND;TZID=Europe/Paris:20201007T170000
DTSTAMP:20260421T102508
CREATED:20201001T125137Z
LAST-MODIFIED:20201001T125138Z
UID:7267-1601920800-1602090000@siquepasa.com
SUMMARY:Charlas divulgativas de cine septiembre - octubre 2020: “40 años sin Hitchcock. Sus mejores películas”
DESCRIPTION:Fechas: 5 y 7 de octubre de 2020 \nTipo actividad:CONFERENCIAS \nMarco Sede Universitaria Ciudad de Alicante \nHorario: 20:15 h. \nLugar: Sede Universitaria Ciudad de Alicante\, C/ Ramón y Cajal\, 4 \nLocalidad Universidad de Alicante \nIntervinientes: Francisco J. Ortiz\, Profesor de la UA y divulgador \n
URL:https://siquepasa.com/evento/charlas-divulgativas-de-cine-septiembre-octubre-2020-40-anos-sin-hitchcock-sus-mejores-peliculas/
LOCATION:Alicante\, Alicante\, Alicante\, España
CATEGORIES:Charlas
ATTACH;FMTTYPE=image/jpeg:https://siquepasa.com/wp-content/uploads/20201001_144734.jpg
END:VEVENT
END:VCALENDAR