BEGIN:VCALENDAR
VERSION:2.0
PRODID:-//Si que pasa! - ECPv5.0.2.1//NONSGML v1.0//EN
CALSCALE:GREGORIAN
METHOD:PUBLISH
X-WR-CALNAME:Si que pasa!
X-ORIGINAL-URL:https://siquepasa.com
X-WR-CALDESC:Eventos para Si que pasa!
BEGIN:VTIMEZONE
TZID:Europe/Paris
BEGIN:DAYLIGHT
TZOFFSETFROM:+0100
TZOFFSETTO:+0200
TZNAME:CEST
DTSTART:20210328T010000
END:DAYLIGHT
BEGIN:STANDARD
TZOFFSETFROM:+0200
TZOFFSETTO:+0100
TZNAME:CET
DTSTART:20211031T010000
END:STANDARD
END:VTIMEZONE
BEGIN:VEVENT
DTSTART;TZID=Europe/Paris:20210722T200000
DTEND;TZID=Europe/Paris:20210725T200000
DTSTAMP:20260419T222744
CREATED:20210722T145122Z
LAST-MODIFIED:20210722T145122Z
UID:7555-1626984000-1627243200@siquepasa.com
SUMMARY:Concierto banda municipal Alicante
DESCRIPTION: \nEventos en la plaza del Ayuntamiento: Concierto banda municipal Alicante \n📍 Jueves 22 de julio 20 h.\n📍 Domingo 25 de julio 20 h. \n🆓 Acceso libre al recinto desde una hora antes. Por lo tanto\, te recomendamos que llegues antes para no perder tu sitio. \n➕ bit.ly/agendaac \n  \nY no te pierdas ningún evento con nuestro calendario:  \n
URL:https://siquepasa.com/evento/concierto-banda-municipal-alicante/
LOCATION:Alicante\, Alicante\, Alicante\, España
END:VEVENT
END:VCALENDAR