BEGIN:VCALENDAR
VERSION:2.0
PRODID:-//Si que pasa! - ECPv5.0.2.1//NONSGML v1.0//EN
CALSCALE:GREGORIAN
METHOD:PUBLISH
X-WR-CALNAME:Si que pasa!
X-ORIGINAL-URL:https://siquepasa.com
X-WR-CALDESC:Eventos para Si que pasa!
BEGIN:VTIMEZONE
TZID:Europe/Paris
BEGIN:DAYLIGHT
TZOFFSETFROM:+0100
TZOFFSETTO:+0200
TZNAME:CEST
DTSTART:20200329T010000
END:DAYLIGHT
BEGIN:STANDARD
TZOFFSETFROM:+0200
TZOFFSETTO:+0100
TZNAME:CET
DTSTART:20201025T010000
END:STANDARD
END:VTIMEZONE
BEGIN:VEVENT
DTSTART;TZID=Europe/Paris:20201030T110000
DTEND;TZID=Europe/Paris:20201030T170000
DTSTAMP:20260420T044603
CREATED:20201026T115154Z
LAST-MODIFIED:20210423T080052Z
UID:7457-1604055600-1604077200@siquepasa.com
SUMMARY:CONCIERTO DE LA BANDA SINFÓNICA MUNICIPAL
DESCRIPTION:Concierto de la Banda Sinfónica Municipal en La Casa de la Música \n“ENNIO MORRICONE” \nSINOPSIS: Durante las audiciones se interpretarán piezas musicales de este compositor que se ilustrarán con explicaciones didácticas del director. \nFECHA: Viernes 30 de octubre \nHORARIO: 11:00h \nDURACIÓN: 60 minutos aprox \nINSCRIPCIONES: Las inscripciones se realizarán en el Centro Municipal de las Artes\,Plaza de Quijano 2. \nTfno: 965 20 85 19\, \nHorario: De lunes a viernes de 10:30 a 12:30h. y de 17:30 a 20:30h. \nDías de inscripción: 15 al 29 de octubre 2020 \nLas plazas se irán cubriendo por orden de inscripción. \nLUGAR DE ENCUENTRO Y REALIZACIÓN DE LA AUDICIÓN: “Casa de la Música”\, Centro Cultural “Las Cigarreras” Calle San Carlos\, 78 \nRecepción del publico a partir de las 10´20h en la puerta principal de la “Casa de la Música”. \n¡No te pierdas este concierto de la banda sinfónica municipal! \n
URL:https://siquepasa.com/evento/concierto-de-la-banda-sinfonica-municipal/
ATTACH;FMTTYPE=image/jpeg:https://siquepasa.com/wp-content/uploads/20201026_124834.jpg
END:VEVENT
END:VCALENDAR