BEGIN:VCALENDAR
VERSION:2.0
PRODID:-//Si que pasa! - ECPv5.0.2.1//NONSGML v1.0//EN
CALSCALE:GREGORIAN
METHOD:PUBLISH
X-WR-CALNAME:Si que pasa!
X-ORIGINAL-URL:https://siquepasa.com
X-WR-CALDESC:Eventos para Si que pasa!
BEGIN:VTIMEZONE
TZID:Europe/Paris
BEGIN:DAYLIGHT
TZOFFSETFROM:+0100
TZOFFSETTO:+0200
TZNAME:CEST
DTSTART:20200329T010000
END:DAYLIGHT
BEGIN:STANDARD
TZOFFSETFROM:+0200
TZOFFSETTO:+0100
TZNAME:CET
DTSTART:20201025T010000
END:STANDARD
END:VTIMEZONE
BEGIN:VEVENT
DTSTART;TZID=Europe/Paris:20201003T210000
DTEND;TZID=Europe/Paris:20201003T210000
DTSTAMP:20260420T091347
CREATED:20200930T163423Z
LAST-MODIFIED:20200930T163426Z
UID:7237-1601758800-1601758800@siquepasa.com
SUMMARY:CONCIERTO DE LOS MALINCHES EN LA CAJA NEGRA DE LAS CIGARRERAS
DESCRIPTION:Música!\nConcierto de Los Malinches en la Caja Negra de Las Cigarreras\nSáb. 3 de octubre. 21 h. \nEntradas 10 euros \nVenta en entradium.com \n
URL:https://siquepasa.com/evento/concierto-de-los-malinches-en-la-caja-negra-de-las-cigarreras/
LOCATION:Alicante\, Alicante\, Alicante\, España
CATEGORIES:Concierto
ATTACH;FMTTYPE=image/jpeg:https://siquepasa.com/wp-content/uploads/20200930_183349.jpg
END:VEVENT
END:VCALENDAR