BEGIN:VCALENDAR
VERSION:2.0
PRODID:-//Si que pasa! - ECPv5.0.2.1//NONSGML v1.0//EN
CALSCALE:GREGORIAN
METHOD:PUBLISH
X-WR-CALNAME:Si que pasa!
X-ORIGINAL-URL:https://siquepasa.com
X-WR-CALDESC:Eventos para Si que pasa!
BEGIN:VTIMEZONE
TZID:Europe/Paris
BEGIN:DAYLIGHT
TZOFFSETFROM:+0100
TZOFFSETTO:+0200
TZNAME:CEST
DTSTART:20200329T010000
END:DAYLIGHT
BEGIN:STANDARD
TZOFFSETFROM:+0200
TZOFFSETTO:+0100
TZNAME:CET
DTSTART:20201025T010000
END:STANDARD
END:VTIMEZONE
BEGIN:VEVENT
DTSTART;TZID=Europe/Paris:20200925T080000
DTEND;TZID=Europe/Paris:20200925T170000
DTSTAMP:20260420T161316
CREATED:20200921T144528Z
LAST-MODIFIED:20200921T144714Z
UID:7003-1601020800-1601053200@siquepasa.com
SUMMARY:Conciertos en #casa
DESCRIPTION:Desde la web conciertosencasa.com los invitan a participar desde casa de conciertos en streaming\, gratuitos y pagos para este fin de semana! \nVIERNES 25 DE SEPTIEMBRE\n21:00\nLamb of God\nLAMB OF GOD / METAL/ROCK DURO\nWEB\n22:30\nOFunkillo\nO’FUNK’ILLO / MESTIZAJE/FUSIÓN\nWEB 6€ COMPRAR ENTRADAS \nNo se lo pierdan! \n#quedateencasa \n  \n  \n
URL:https://siquepasa.com/evento/conciertos-en-casa/
CATEGORIES:Conciertos Online
ATTACH;FMTTYPE=image/jpeg:https://siquepasa.com/wp-content/uploads/20200921_163353.jpg
END:VEVENT
END:VCALENDAR