BEGIN:VCALENDAR
VERSION:2.0
PRODID:-//Si que pasa! - ECPv5.0.2.1//NONSGML v1.0//EN
CALSCALE:GREGORIAN
METHOD:PUBLISH
X-WR-CALNAME:Si que pasa!
X-ORIGINAL-URL:https://siquepasa.com
X-WR-CALDESC:Eventos para Si que pasa!
BEGIN:VTIMEZONE
TZID:Europe/Paris
BEGIN:DAYLIGHT
TZOFFSETFROM:+0100
TZOFFSETTO:+0200
TZNAME:CEST
DTSTART:20200329T010000
END:DAYLIGHT
BEGIN:STANDARD
TZOFFSETFROM:+0200
TZOFFSETTO:+0100
TZNAME:CET
DTSTART:20201025T010000
END:STANDARD
END:VTIMEZONE
BEGIN:VEVENT
DTSTART;VALUE=DATE:20200925
DTEND;VALUE=DATE:20200928
DTSTAMP:20260422T082307
CREATED:20200924T093659Z
LAST-MODIFIED:20200924T093940Z
UID:7124-1600992000-1601251199@siquepasa.com
SUMMARY:Consulta el programa de actividades gratuitas del Día del Turismo ¡Ya puedes inscribirte!
DESCRIPTION:Durante este fin de semana se podrá disfrutar de visitas guiadas\, conciertos y actividades infantiles gratuitas y al aire libre\n\n\n\n\n\nEste fin de semana se celebra el Día Mundial del Turismo y Alicante ofrece todo un calendario repleto de actividades\, tal y como presentó el pasado lunes la vicealcaldesa de Alicante y concejal de Turismo\, Mari Carmen Sánchez. \nEl Patronato Municipal de Turismo y Playas va a desarrollar diversas acciones durante el fin de semana del 25 al 27 dirigidas a todos los públicos\, como actividades infantiles\, conciertos\, catas de vino\, visitas turísticas por la ciudad\, rutas en bicicleta\, puertas abiertas en museos\, además de otras actividades dirigidas a profesionales. “Todas ellas gratuitas y en su mayoría al aire libre”\, ha incidido Mari Carmen Sánchez. \nInscripción a las actividades:\n-Patrón por un día\, de 9 a 16 años\n\nLugar: Museo THE OCEAN RACE\, Muelle de Levante 10 ( Puerto de Alicante)\nFecha y hora: Sábado\, 26 de septiembre de 2020\, de 11\,30 h a 12\,30h\nInscripción: Los asistentes que desean participar en esta actividad deberán presentarse en el Museo The Ocean Race\, 10 minutos antes de la hora de inicio de la actividad.\n\n-Visita guiada a pie ruta “Alicante y su historia”\n\nPunto de encuentro: Oficina de Información turística del Puerto (Plaza Puerta del Mar s/n)\nFecha y hora:\n\nViernes 25 de septiembre a las 18 horas – 2 grupos (1 en inglés) inscripción hasta el viernes 25 a las 13h \nSábado 26 de septiembre a las 11 horas – 2 grupos\, inscripción hasta el viernes 25 a las 19h \nSábado 26 de septiembre a las 18 horas – 2 grupos (1 en inglés) inscripción hasta el sábado 26 a las 13h \nDomingo 27 de septiembre a las 11 horas – 2 grupos\, inscripción hasta el sábado 26 a las 19h \nDomingo 27 de septiembre a las 18 horas – 2 grupos\, inscripción hasta el domingo 27 a las 13h \n\nInscripción\n\n-Rutas en bici\n\nFecha y hora: Domingo 27 de septiembre a las 11\,30h\nAforo: 12 asistentes\nPunto de encuentro: Segway Alicante\, Calle Mayor\, 45 Alicante\nInscripciones: hasta el viernes 25 de septiembre a las 19 h\n\n-Cata de vinos de la Denominación de Origen de Alicante\n\nLugar:  Sede de la Denominación de Origen Alicante\nFecha y hora: viernes 25 de septiembre en tres turnos de media hora de duración\, a las 11h\, 12 h y 13 h\, en grupos de 10 personas.\nFecha límite de inscripción: jueves 24 de septiembre a las 13\n\nPuertas abiertas en los museos MARQ y MUBAG\nMuseo Mubag\n\nLugar: Museo MUBAG (Calle Gravina\, 13\, 15\, 03002 Alacant)\nFecha y hora: domingo 27 de septiembre de 2020\, de 10 a 14 h\nInscripción: día 27 de septiembre\, en taquillas del museo o por teléfono\, llamando al 965149000 ( a partir de las 10h)\n\nMuseo MARQ\n\nLugar: Museo MARQ\nFecha y hora: domingo 27 de septiembre de 2020\, de 10 a 14 h\nInscripción: día 27 de septiembre\, en taquillas del museo o por teléfono\, llamando al 965149000 ( a partir de las 10h)\n\n–Jornada puertas abiertas y visita guiada: Yacimiento Tossal de Manises\n\nFecha y hora: domingo 27 de septiembre de 2020\, de 10 a 14 h\nInscripción: día 27 de septiembre\, en taquillas del museo o por teléfono\, llamando al 965149000 ( a partir de las 10h)\n\n– Concierto “Revólver\, en solitario”. Dentro del ciclo de conciertos Noches Mediterráneas\n\nLugar: Puerto De Alicante\, Muelle 12\, Zona Volvo.\nFecha y hora: sábado 26 de septiembre de 2020\, 22 h\nInscripción: 100 entradas (50 entradas dobles) para personas alojadas en hoteles y apartamentos turísticos de la ciudad de Alicante durante el fin de semana del 25 al 27 de septiembre. Dichas entradas podrán recogerse en la oficina de información turística del puerto\, facilitando los datos y comprobante de reserva de alojamiento\, hasta el sábado 26 de septiembre. Entradas sujetas a disponibilidad.\n\n– Concierto Banda Sinfónica Municipal\n\nLugar: Plaza del Ayuntamiento\nFecha y hora: domingo 27 de septiembre de 2020\, 19 h\nEntrada gratuita limitada al aforo (136 personas).\n\n– ADDA Simfònica. Festival Contemporáneo de Alicante 20/21\n\nLugar: ADDA. Auditorio de la Diputación de Alicante\nFecha y hora: 25\, 26 y 27 de septiembre. 12 h y 20 h.\nEntradas gratuitas bajo inscripción previa\, hasta completar el aforo. Escriba un correo a protocolo.adda@diputacionalicante.es\, indique el día del concierto al que quiere asistir\, el número de personas (máximo 4) y sus nombres y apellidos.\nMás información en este enlace.\n\n-Jornadas Profesionales Turismo Costa Blanca-Alicante City & Beach\n\nLugar: Museo MARQ\nFecha y hora: viernes 25 septiembre de 9 a 11 horas\n\nConsulta toda la información detallada aquí. \n\n\n\n\n\n\n\n  \n
URL:https://siquepasa.com/evento/consulta-el-programa-de-actividades-gratuitas-del-dia-del-turismo-ya-puedes-inscribirte/
LOCATION:Alicante\, Alicante\, Alicante\, España
CATEGORIES:Exposición,Tours
ATTACH;FMTTYPE=image/jpeg:https://siquepasa.com/wp-content/uploads/20200924_113019.jpg
END:VEVENT
END:VCALENDAR