BEGIN:VCALENDAR
VERSION:2.0
PRODID:-//Si que pasa! - ECPv5.0.2.1//NONSGML v1.0//EN
CALSCALE:GREGORIAN
METHOD:PUBLISH
X-WR-CALNAME:Si que pasa!
X-ORIGINAL-URL:https://siquepasa.com
X-WR-CALDESC:Eventos para Si que pasa!
BEGIN:VTIMEZONE
TZID:Europe/Paris
BEGIN:DAYLIGHT
TZOFFSETFROM:+0100
TZOFFSETTO:+0200
TZNAME:CEST
DTSTART:20200329T010000
END:DAYLIGHT
BEGIN:STANDARD
TZOFFSETFROM:+0200
TZOFFSETTO:+0100
TZNAME:CET
DTSTART:20201025T010000
END:STANDARD
END:VTIMEZONE
BEGIN:VEVENT
DTSTART;TZID=Europe/Paris:20201031T183000
DTEND;TZID=Europe/Paris:20201031T183000
DTSTAMP:20260420T014556
CREATED:20201026T115909Z
LAST-MODIFIED:20201026T115910Z
UID:7463-1604169000-1604169000@siquepasa.com
SUMMARY:CULTURA EN BARRIOS. "LA MUJER PUENTE"
DESCRIPTION:Marta intenta encontrar un chico con el que compartir su vida pero se siente la mujer puente\, pero puente como sinónimo de transición de sus parejas que la utilizan\, según descubre\, para pasar ellos a estar con otra mujer. Le vienen con la excusa de que deben resolver algo. La media que tiene es de una relación por trimestre\, como en cole\, la última que conoció a través de una de esas aplicaciones de móvil\, Jon. \nEn la obra le acompaña Carolina que debe de ser su amiga pero esencialmente es su psicóloga de confianza que le da pautas para asumir su condición de mujer buscadora de parejas. Le aconseja que debe de ser ella quien tiene que esperar a que él la llame. Opina sobre la gestión que tiene Marta y sobre las circunstancias que le ocurren: “Si viene y te da un beso en la cara\, mal. Si te da un piquito\, un poquito mejor. Si te da un morreo no te tienes que preocupar”.\nLa mujer puente fue creado a partir de un texto fragmento de la obra EL PAN DE LA VERGÜENZA por la dramaturga alicantina Vera Lebrón. En su versión monólogo fue Premio Mejor Interpretación de la XIX Muestra de Monólogos 2018 de la Universidad de Alicante y Clan Cabaret a su actriz Luciana Barrenechea. \nENTRADAS – INVITACIONES \nEl acceso a las actuaciones será mediante entrada-invitación que sólo se podrán reservar online desde esta página\, a partir del lunes 5 de octubre hasta agotar existencias. Una misma persona titular e-mail solo podrá adquirir hasta 4 invitaciones para cada función. Se ruega se adquieran solo aquellas invitaciones que realmente se vayan a utilizar\, con el fin de facilitar la asistencia a otras personas interesadas. Si en alguna función quedaran localidades disponibles\, el aforo establecido se completaría con asistentes a la representación sin entrada-invitación reservada. Invitaciones aquí \n
URL:https://siquepasa.com/evento/cultura-en-barrios-la-mujer-puente/
ATTACH;FMTTYPE=image/jpeg:https://siquepasa.com/wp-content/uploads/20201026_125614.jpg
END:VEVENT
END:VCALENDAR