BEGIN:VCALENDAR
VERSION:2.0
PRODID:-//Si que pasa! - ECPv5.0.2.1//NONSGML v1.0//EN
CALSCALE:GREGORIAN
METHOD:PUBLISH
X-WR-CALNAME:Si que pasa!
X-ORIGINAL-URL:https://siquepasa.com
X-WR-CALDESC:Eventos para Si que pasa!
BEGIN:VTIMEZONE
TZID:Europe/Paris
BEGIN:DAYLIGHT
TZOFFSETFROM:+0100
TZOFFSETTO:+0200
TZNAME:CEST
DTSTART:20200329T010000
END:DAYLIGHT
BEGIN:STANDARD
TZOFFSETFROM:+0200
TZOFFSETTO:+0100
TZNAME:CET
DTSTART:20201025T010000
END:STANDARD
END:VTIMEZONE
BEGIN:VEVENT
DTSTART;TZID=Europe/Paris:20201003T200000
DTEND;TZID=Europe/Paris:20201003T200000
DTSTAMP:20260420T103219
CREATED:20200930T164213Z
LAST-MODIFIED:20200930T164214Z
UID:7241-1601755200-1601755200@siquepasa.com
SUMMARY:Entre bobos anda el juego teatro 🎭
DESCRIPTION:«Entre bobos anda el juego» es una comedia de capa y espada en la que un personaje cargado de avaricia y orgullo al que se caricaturiza\, es enredado hasta lograr la burla final. La primera representación de esta obra fue en 1645 durante las fiestas de carnaval\, el rey Felipe IV como espectador. \nCompra tus entradas aquí ➡️ https://entradas.instanticket.es/tprincipal/public/janto/ \n
URL:https://siquepasa.com/evento/entre-bobos-anda-el-juego-teatro-%f0%9f%8e%ad/
LOCATION:Alicante\, Alicante\, Alicante\, España
CATEGORIES:Teatro
ATTACH;FMTTYPE=image/jpeg:https://siquepasa.com/wp-content/uploads/20200930_183903.jpg
END:VEVENT
END:VCALENDAR