BEGIN:VCALENDAR
VERSION:2.0
PRODID:-//Si que pasa! - ECPv5.0.2.1//NONSGML v1.0//EN
CALSCALE:GREGORIAN
METHOD:PUBLISH
X-WR-CALNAME:Si que pasa!
X-ORIGINAL-URL:https://siquepasa.com
X-WR-CALDESC:Eventos para Si que pasa!
BEGIN:VTIMEZONE
TZID:Europe/Paris
BEGIN:DAYLIGHT
TZOFFSETFROM:+0100
TZOFFSETTO:+0200
TZNAME:CEST
DTSTART:20200329T010000
END:DAYLIGHT
BEGIN:STANDARD
TZOFFSETFROM:+0200
TZOFFSETTO:+0100
TZNAME:CET
DTSTART:20201025T010000
END:STANDARD
END:VTIMEZONE
BEGIN:VEVENT
DTSTART;VALUE=DATE:20201029
DTEND;VALUE=DATE:20201030
DTSTAMP:20260420T091415
CREATED:20201007T100603Z
LAST-MODIFIED:20201007T100605Z
UID:7334-1603929600-1604015999@siquepasa.com
SUMMARY:La I Gala del Turismo de Alicante: «coffee break» en el ADDA para 200 invitados y charlas en vivo
DESCRIPTION:El Ayuntamiento impulsa la organización del evento que se prevé celebrar el próximo 29 de octubre con una jornada profesional y una entrega de premios. \nLa primera gala\, en plena pandemia. El Patronato municipal de Turismo\, dirigido por la vicealcaldesa Mari Carmen Sánchez (Ciudadanos)\, trabaja en la organización de la primera Gala del Turismo «Ciudad de Alicante». El evento se prevé celebrar el próximo 29 de octubre en el Auditorio Provincial de la Diputación (ADDA)\, lo que obligará a respetar las medidas de seguridad derivadas de la pandemia por el coronavirus. La gala contará con una jornada profesional y una entrega de premios. \n  \n
URL:https://siquepasa.com/evento/la-i-gala-del-turismo-de-alicante-coffee-break-en-el-adda-para-200-invitados-y-charlas-en-vivo/
CATEGORIES:Exposición
ATTACH;FMTTYPE=image/jpeg:https://siquepasa.com/wp-content/uploads/20200924_113019.jpg
END:VEVENT
END:VCALENDAR