BEGIN:VCALENDAR
VERSION:2.0
PRODID:-//Si que pasa! - ECPv5.0.2.1//NONSGML v1.0//EN
CALSCALE:GREGORIAN
METHOD:PUBLISH
X-WR-CALNAME:Si que pasa!
X-ORIGINAL-URL:https://siquepasa.com
X-WR-CALDESC:Eventos para Si que pasa!
BEGIN:VTIMEZONE
TZID:Europe/Paris
BEGIN:DAYLIGHT
TZOFFSETFROM:+0100
TZOFFSETTO:+0200
TZNAME:CEST
DTSTART:20200329T010000
END:DAYLIGHT
BEGIN:STANDARD
TZOFFSETFROM:+0200
TZOFFSETTO:+0100
TZNAME:CET
DTSTART:20201025T010000
END:STANDARD
END:VTIMEZONE
BEGIN:VEVENT
DTSTART;TZID=Europe/Paris:20200924T190000
DTEND;TZID=Europe/Paris:20200924T203000
DTSTAMP:20260420T122116
CREATED:20200921T172633Z
LAST-MODIFIED:20200921T172737Z
UID:7031-1600974000-1600979400@siquepasa.com
SUMMARY:LA MESA DEL ARQUITECTO 7: “SOBRE LA NATURALEZA EN LOS ESPACIOS"
DESCRIPTION:‘La mesa del arquitecto’ es un ciclo de encuentros sobre el arte y la arquitectura en torno a una mesa donde se han dibujado muchos proyectos. Un tablero\, un papel\, la tensión: trazos y líneas que pertenecen a su memoria y que ahora se desvelan para acercarnos a los creadores de espacios. La mesa del arquitecto sigue dibujando….y nosotros aprendiendo. \nPróxima sesión el 24 de septiembre\, a las 19 h. Bleda y Rosa. María Bleda y José Mª Rosa\, artistas: “Sobre la naturaleza de los espacios”. \nEl MACA\, a través de la concejalía de Cultura\, propone desde 2015 unos encuentros en formato de conversación\, en torno al arte y la arquitectura. Reflexionar de nuevo sobre las relaciones entre la arquitectura y el arte\, entender el proceso de construcción y reconstrucción de la arquitectura desde un punto de vista más artístico o de pensamiento\, nos hace ahondar en esta propuesta. \n\n\n\n\nLa mesa del arquitecto\, una mesa de 1912\, real y presente (depositada por su propietario Alfonso Navarro Guzmán en el MACA)\, sirve de sustento ideológico para vincular las conversaciones y sirve de soporte material de dibujos\, esbozos\, planos y maquetas para poder recorrer mientras soñamos\, el espacio imaginado. La coordinación de estos encuentros corre a cargo de Santiago Varela Botella\, arquitecto. \n\n\n\n\nAforo limitado. Entradas AQUÍ \n\n\n\n\nFecha: \n24 de Septiembre \n\n\nHorario:\n\n19 a 20:30hs\nLugar: MACA\n\nPlaza Santa Maria 3\n\n\n\n\n\n\n
URL:https://siquepasa.com/evento/la-mesa-del-arquitecto-7-sobre-la-naturaleza-en-los-espacios/
LOCATION:Alicante\, Alicante\, Alicante\, España
CATEGORIES:Exposición
ATTACH;FMTTYPE=image/jpeg:https://siquepasa.com/wp-content/uploads/20200921_192129.jpg
END:VEVENT
END:VCALENDAR