BEGIN:VCALENDAR
VERSION:2.0
PRODID:-//Si que pasa! - ECPv5.0.2.1//NONSGML v1.0//EN
CALSCALE:GREGORIAN
METHOD:PUBLISH
X-WR-CALNAME:Si que pasa!
X-ORIGINAL-URL:https://siquepasa.com
X-WR-CALDESC:Eventos para Si que pasa!
BEGIN:VTIMEZONE
TZID:Europe/Paris
BEGIN:DAYLIGHT
TZOFFSETFROM:+0100
TZOFFSETTO:+0200
TZNAME:CEST
DTSTART:20200329T010000
END:DAYLIGHT
BEGIN:STANDARD
TZOFFSETFROM:+0200
TZOFFSETTO:+0100
TZNAME:CET
DTSTART:20201025T010000
END:STANDARD
END:VTIMEZONE
BEGIN:VEVENT
DTSTART;TZID=Europe/Paris:20201002T160000
DTEND;TZID=Europe/Paris:20201002T200000
DTSTAMP:20260420T144404
CREATED:20200928T103018Z
LAST-MODIFIED:20200928T103021Z
UID:7181-1601654400-1601668800@siquepasa.com
SUMMARY:Máster marketing digital en Alicante. Inicio de curso escuela Ecommaster.es
DESCRIPTION:\n\n\n\n10º Edición del Máster en Marketing Digital en Alicante\, especializado en Comercio Electrónico. Inicio de clases de la escuela Ecommaster.\n\n\n\n\n\n\nEl Máster Marketing Digital y Ecommerce presencial en Alicante está diseñado desde un punto de vista práctico\, siendo nuestro plan de estudios uno de nuestros puntos diferenciales. \n\n\n\nRealmente es un 2×1 ya que incluye todos los beneficios de nuestro Máster Online con sus respectivas clases en streaming que se suben al campus al día siguiente. Pero con además clases presenciales los viernes y sábados. \nNuestros Másters incluyen acceso a nuestra comunidad alumni con más de 1000 profesionales del ecommerce\, contacto directo con profesores\, tutorías\, foros\, consultorías… Sigue leyendo si quieres que te lo contemos todo. \nComenzamos en Octubre de 2020\, tienes toda la información aquí: http://masters.ecommaster.es/alicante-comercio-electronico/ \n\n\n\n\n
URL:https://siquepasa.com/evento/master-marketing-digital-en-alicante-inicio-de-curso-escuela-ecommaster-es/
LOCATION:Alicante\, Alicante\, Alicante\, España
CATEGORIES:Cursos
END:VEVENT
END:VCALENDAR