BEGIN:VCALENDAR
VERSION:2.0
PRODID:-//Si que pasa! - ECPv5.0.2.1//NONSGML v1.0//EN
CALSCALE:GREGORIAN
METHOD:PUBLISH
X-WR-CALNAME:Si que pasa!
X-ORIGINAL-URL:https://siquepasa.com
X-WR-CALDESC:Eventos para Si que pasa!
BEGIN:VTIMEZONE
TZID:Europe/Paris
BEGIN:DAYLIGHT
TZOFFSETFROM:+0100
TZOFFSETTO:+0200
TZNAME:CEST
DTSTART:20200329T010000
END:DAYLIGHT
BEGIN:STANDARD
TZOFFSETFROM:+0200
TZOFFSETTO:+0100
TZNAME:CET
DTSTART:20201025T010000
END:STANDARD
END:VTIMEZONE
BEGIN:VEVENT
DTSTART;TZID=Europe/Paris:20200924T180000
DTEND;TZID=Europe/Paris:20200924T200000
DTSTAMP:20260420T105809
CREATED:20200921T185355Z
LAST-MODIFIED:20200921T185355Z
UID:7069-1600970400-1600977600@siquepasa.com
SUMMARY:Masterclass de Fotografía de Retrato con José Luis Carrillo
DESCRIPTION:Masterclass de Fotografía de Retrato con José Luis Carrillo \nDónde? \nLa Escuela Mistos \n38 Carrer Poeta Campos Vasallo \n03004 Alacant \nCuándo? \njue. 24 de septiembre de 2020 \n18:00 – 20:00 \n
URL:https://siquepasa.com/evento/masterclass-de-fotografia-de-retrato-con-jose-luis-carrillo/
CATEGORIES:Cursos
ATTACH;FMTTYPE=image/jpeg:https://siquepasa.com/wp-content/uploads/20200921_205213.jpg
END:VEVENT
END:VCALENDAR