BEGIN:VCALENDAR
VERSION:2.0
PRODID:-//Si que pasa! - ECPv5.0.2.1//NONSGML v1.0//EN
CALSCALE:GREGORIAN
METHOD:PUBLISH
X-WR-CALNAME:Si que pasa!
X-ORIGINAL-URL:https://siquepasa.com
X-WR-CALDESC:Eventos para Si que pasa!
BEGIN:VTIMEZONE
TZID:Europe/Paris
BEGIN:DAYLIGHT
TZOFFSETFROM:+0100
TZOFFSETTO:+0200
TZNAME:CEST
DTSTART:20200329T010000
END:DAYLIGHT
BEGIN:STANDARD
TZOFFSETFROM:+0200
TZOFFSETTO:+0100
TZNAME:CET
DTSTART:20201025T010000
END:STANDARD
END:VTIMEZONE
BEGIN:VEVENT
DTSTART;TZID=Europe/Paris:20201030T180000
DTEND;TZID=Europe/Paris:20201030T180000
DTSTAMP:20260420T031021
CREATED:20201026T115454Z
LAST-MODIFIED:20201026T115456Z
UID:7461-1604080800-1604080800@siquepasa.com
SUMMARY:MENUTSBARRIS. "EL PRINCIPITO"
DESCRIPTION:Rebombori Cultural es un equipo multidisciplinar de profesionales que trabaja regularmente con ayuntamientos de toda la Comunidad Valenciana: Valencia (Red Municipal de Bibliotecas del Ayuntamiento de Valencia)\, Moncofa (Castellón)\, L’Eliana\, Alfafar\, Onda… Contamos entre nuestros clientes con Diputación Valenciana (Museu d’Etnologia de València) y Generalitat Valenciana. \nTodos los públicos (+6 años) \nENTRADAS – INVITACIONES \n  \nEl acceso a las actuaciones será mediante entrada-invitación que sólo se podrán reservar online desde esta página\, a partir del lunes 5 de octubre hasta agotar existencias. Una misma persona titular e-mail solo podrá adquirir hasta 4 invitaciones para cada función. Se ruega se adquieran solo aquellas invitaciones que realmente se vayan a utilizar\, con el fin de facilitar la asistencia a otras personas interesadas. Si en alguna función quedaran localidades disponibles\, el aforo establecido se completaría con asistentes a la representación sin entrada-invitación reservada. \n
URL:https://siquepasa.com/evento/menutsbarris-el-principito/
END:VEVENT
END:VCALENDAR