BEGIN:VCALENDAR
VERSION:2.0
PRODID:-//Si que pasa! - ECPv5.0.2.1//NONSGML v1.0//EN
CALSCALE:GREGORIAN
METHOD:PUBLISH
X-WR-CALNAME:Si que pasa!
X-ORIGINAL-URL:https://siquepasa.com
X-WR-CALDESC:Eventos para Si que pasa!
BEGIN:VTIMEZONE
TZID:Europe/Paris
BEGIN:DAYLIGHT
TZOFFSETFROM:+0100
TZOFFSETTO:+0200
TZNAME:CEST
DTSTART:20200329T010000
END:DAYLIGHT
BEGIN:STANDARD
TZOFFSETFROM:+0200
TZOFFSETTO:+0100
TZNAME:CET
DTSTART:20201025T010000
END:STANDARD
END:VTIMEZONE
BEGIN:VEVENT
DTSTART;TZID=Europe/Paris:20200925T080000
DTEND;TZID=Europe/Paris:20200927T170000
DTSTAMP:20260420T200130
CREATED:20200923T083249Z
LAST-MODIFIED:20200923T083534Z
UID:7094-1601020800-1601226000@siquepasa.com
SUMMARY:Pablo López\, Coque Malla e Ismael Serrano\, broche de oro de “Música&Sal”
DESCRIPTION:Pablo López\, Coque Malla e Ismael Serrano\, broche de oro de “Música&Sal”\nEl festival “Música&Sal” de Torrevieja está teniendo una gran acogida por parte del público desde que comenzó el 5 de septiembre. \nEl recinto del Parque Municipal “Antonio Soria”\, que cuenta con todas las garantías y medidas de seguridad que indican las normas de la Covid-19\, pone a disposición del público una zona gastrobar compuesta por food trucks que elaboran hamburguesas gourmet y pizzas artesanales\, así como una fan zone ambientada con un Dj de la que se puede disfrutar hasta la 1 de la madrugada. \nEl último fin de semana de septiembre estarán en el festival tres de los más importantes nombres del panorama musical español. Comienza el viernes 25 una de las voces más personales del momento\, Pablo López\, que ofrecerá el espectáculo “López\, piano y voz” con el que está cosechando un rotundo éxito. \nEl sábado 26 será el turno para Coque Malla. El cantante madrileño trae a Torrevieja “La gira imposible”\, que es el título con el que presenta su recorrido por toda España para dar a conocer sus últimos trabajos discográficos. \nEl broche final lo pondrá el domingo 27 Ismael Serrano\, fiel a su estilo acompañado de su guitarra\, defenderá la vigencia del oficio de cantautor en el sentido más purista del término. \n
URL:https://siquepasa.com/evento/pablo-lopez-coque-malla-e-ismael-serrano-broche-de-oro-de-musicasal/
CATEGORIES:Concierto
ATTACH;FMTTYPE=image/jpeg:https://siquepasa.com/wp-content/uploads/20200921_163353.jpg
END:VEVENT
END:VCALENDAR