BEGIN:VCALENDAR
VERSION:2.0
PRODID:-//Si que pasa! - ECPv5.0.2.1//NONSGML v1.0//EN
CALSCALE:GREGORIAN
METHOD:PUBLISH
X-WR-CALNAME:Si que pasa!
X-ORIGINAL-URL:https://siquepasa.com
X-WR-CALDESC:Eventos para Si que pasa!
BEGIN:VTIMEZONE
TZID:Europe/Paris
BEGIN:DAYLIGHT
TZOFFSETFROM:+0100
TZOFFSETTO:+0200
TZNAME:CEST
DTSTART:20200329T010000
END:DAYLIGHT
BEGIN:STANDARD
TZOFFSETFROM:+0200
TZOFFSETTO:+0100
TZNAME:CET
DTSTART:20201025T010000
END:STANDARD
END:VTIMEZONE
BEGIN:VEVENT
DTSTART;VALUE=DATE:20201001
DTEND;VALUE=DATE:20201008
DTSTAMP:20260420T134138
CREATED:20201001T125804Z
LAST-MODIFIED:20201001T125806Z
UID:7271-1601510400-1602115199@siquepasa.com
SUMMARY:"PACÍFIC\, LS DOS ROSTRES D’UN OCEÀ. FOTOGRAFÍAS DE PABLO BERNABEU"
DESCRIPTION:\n\n\nEl fotógrafo Pablo Bernabeu ofrece esta magnífica colección de fotografías después de varios viajes a dos de las vertientes del Pacífico: Camboya y Vietnam por un lado\, y el Perú por el otro. Una exposición que se centra en las personas de ambos pueblos\, en sus rostros\, en las miradas opuestas\, pero complementarias\, que descubren al espectador\, las dos caras de un mismo océano. Coordina: Fundación Mutua Levante \nInformación inscripción \nUNIVERSIDAD DE ALICANTE\nSEDE CIUDAD DE ALICANTE\nhttp://web.ua.es/es/sedealicante/\nseu.alacant@ua.es\n  \n\n\n\n\nPuntos de venta:\n\n\nUNIVERSIDAD DE ALICANTE – SEDE CIUDAD DE ALICANTE \n\n\n\n\n\nMás información\n\n\n
URL:https://siquepasa.com/evento/pacific-ls-dos-rostres-dun-ocea-fotografias-de-pablo-bernabeu/
LOCATION:Alicante\, Alicante\, Alicante\, España
CATEGORIES:Exposición
ATTACH;FMTTYPE=image/jpeg:https://siquepasa.com/wp-content/uploads/20201001_145611.jpg
END:VEVENT
END:VCALENDAR