BEGIN:VCALENDAR
VERSION:2.0
PRODID:-//Si que pasa! - ECPv5.0.2.1//NONSGML v1.0//EN
CALSCALE:GREGORIAN
METHOD:PUBLISH
X-WR-CALNAME:Si que pasa!
X-ORIGINAL-URL:https://siquepasa.com
X-WR-CALDESC:Eventos para Si que pasa!
BEGIN:VTIMEZONE
TZID:Europe/Paris
BEGIN:DAYLIGHT
TZOFFSETFROM:+0100
TZOFFSETTO:+0200
TZNAME:CEST
DTSTART:20200329T010000
END:DAYLIGHT
BEGIN:STANDARD
TZOFFSETFROM:+0200
TZOFFSETTO:+0100
TZNAME:CET
DTSTART:20201025T010000
END:STANDARD
END:VTIMEZONE
BEGIN:VEVENT
DTSTART;TZID=Europe/Paris:20200323T080000
DTEND;TZID=Europe/Paris:20200323T170000
DTSTAMP:20260421T095807
CREATED:20200210T170751Z
LAST-MODIFIED:20200303T125848Z
UID:4994-1584950400-1584982800@siquepasa.com
SUMMARY:Seven Secrets of Alicante: explore\, eat & drink
DESCRIPTION:¿Qué haremos? \n¿Estás listo para la aventura? Empezaremos en el Mercado Central\, donde probaremos varios aperitivos típicos\, y desde allí partiremos a conquistar uno de los castillos más bonitos de España\, enfrente del mar\, con más de 1000 años de historia. Descenderemos al centro histórico\, disfrutando de los monumentos más importantes y descubriendo los siete secretos. Déjanos sorprenderte con la belleza de esta ciudad\, y un sinfín de anécdotas\, historia\, leyenda e intriga. Finalmente visitaremos el bar de tapas de un amigo de la infancia\, que fue galardonado con el premio a la mejor tapa de la ciudad\, donde podremos probarlas junto con tu bebida favorita. \n¿Hay algo más que deba saber? \nAndaremos aproximádamente 2 kilómetros y hay algunas escaleras. \n¿Qué incluye? \n1 botella de agua\, aperitivos típicos en el Mercado Central\, transporte a lo alto del castillo (trayecto de 5 minutos)\, todas las entradas gratuitas a los monumentos\, museos que visitaremos\, tour guiado\, y tapa y bebida (alcohólica o no) en uno de los mejores bares de Alicante. \nHorario \nDe lunes a sábado de 10:00 a 12:30. \nContacto \nhola@siquepasa.com \n+34 636 42 40 20 (WhatsApp\, iMessage o SMS) \n
URL:https://siquepasa.com/evento/seven-secrets-alicante/
LOCATION:Alicante\, Alicante\, Alicante\, España
CATEGORIES:Tours
ATTACH;FMTTYPE=image/jpeg:https://siquepasa.com/wp-content/uploads/7-secrets_portada.jpg
ORGANIZER;CN="S%C3%AD%20que%20pasa%21":MAILTO:hola@siquepasa.com
END:VEVENT
END:VCALENDAR