BEGIN:VCALENDAR
VERSION:2.0
PRODID:-//Si que pasa! - ECPv5.0.2.1//NONSGML v1.0//EN
CALSCALE:GREGORIAN
METHOD:PUBLISH
X-WR-CALNAME:Si que pasa!
X-ORIGINAL-URL:https://siquepasa.com
X-WR-CALDESC:Eventos para Si que pasa!
BEGIN:VTIMEZONE
TZID:Europe/Paris
BEGIN:DAYLIGHT
TZOFFSETFROM:+0100
TZOFFSETTO:+0200
TZNAME:CEST
DTSTART:20200329T010000
END:DAYLIGHT
BEGIN:STANDARD
TZOFFSETFROM:+0200
TZOFFSETTO:+0100
TZNAME:CET
DTSTART:20201025T010000
END:STANDARD
END:VTIMEZONE
BEGIN:VEVENT
DTSTART;TZID=Europe/Paris:20201028T080000
DTEND;TZID=Europe/Paris:20201111T170000
DTSTAMP:20260420T120251
CREATED:20201026T113128Z
LAST-MODIFIED:20201026T113130Z
UID:7445-1603872000-1605114000@siquepasa.com
SUMMARY:Taller. CUÉNTAME\, TU ALINEAMIENTO EN LA CONSTELACIÓN
DESCRIPTION:Cuéntame\, tu alineamiento en la constelación \nNuestra presencia en los espacios viene determinada por el uso que hacemos de ellos\, puede tratarse de una estancia puntual o incluso de un paseo sin rumbo\, pero\, ¿qué ocurre cuando se nos invita a formar parte real de los lugares que ocupamos?\nLos trabajos de Julia Mariscal se forman a través de un ensamblaje de objetos escultóricos donde el cuerpo se transforma en el eje y\, por tanto\, en la guía de aproximación a los elementos que nos rodean. \nPara esta actividad la artista nos propone dejar nuestra impronta en un escenario en vías de crecimiento\, un lugar en el que los espectadores puedan convertirse durante una sesión en actores de su propia experimentación.\nUna investigación en proceso que crece y se nutre exponencialmente de cada una de las intervenciones individuales\, con sus particularidades y emociones propias siempre cambiantes y enriquecedoras.\nPara ello\, se conectará de forma personal con cada participante por medio de unas instrucciones previas que les invitarán a conectar de forma íntima con el espacio.\nUna manera de generar alineamientos cruzados y configurar así\, el guion sobre el que se materializará una nueva constelación. \n\nNúmero de sesiones: 14 -21- 28 octubre y 4 -11 noviembre \nLugar: Caja Blanca Centro Cultural Las Cigarreras\nHora: 18:00\nDuración: 1 hora\nNº participantes: 1 x sesión (actividad individual previa reserva)\nA quién se dirige:  Actividad dirigida a todo tipo de público con inquietudes en las prácticas artísticas contemporáneas\, la investigación en torno a los nuevos lenguajes expositivos y la búsqueda colectiva de otras articulaciones narrativas para estos espacios.\nInscripciones aquí\n\nActividad cofinanciada por el Fondo Europeo de Desarrollo Regional (FEDER)\, EDUSI Alicante – Área Las Cigarreras \n
URL:https://siquepasa.com/evento/taller-cuentame-tu-alineamiento-en-la-constelacion/
ATTACH;FMTTYPE=image/jpeg:https://siquepasa.com/wp-content/uploads/20201026_122856.jpg
END:VEVENT
END:VCALENDAR