BEGIN:VCALENDAR
VERSION:2.0
PRODID:-//Si que pasa! - ECPv5.0.2.1//NONSGML v1.0//EN
CALSCALE:GREGORIAN
METHOD:PUBLISH
X-WR-CALNAME:Si que pasa!
X-ORIGINAL-URL:https://siquepasa.com
X-WR-CALDESC:Eventos para Si que pasa!
BEGIN:VTIMEZONE
TZID:Europe/Paris
BEGIN:DAYLIGHT
TZOFFSETFROM:+0100
TZOFFSETTO:+0200
TZNAME:CEST
DTSTART:20200329T010000
END:DAYLIGHT
BEGIN:STANDARD
TZOFFSETFROM:+0200
TZOFFSETTO:+0100
TZNAME:CET
DTSTART:20201025T010000
END:STANDARD
BEGIN:DAYLIGHT
TZOFFSETFROM:+0100
TZOFFSETTO:+0200
TZNAME:CEST
DTSTART:20210328T010000
END:DAYLIGHT
BEGIN:STANDARD
TZOFFSETFROM:+0200
TZOFFSETTO:+0100
TZNAME:CET
DTSTART:20211031T010000
END:STANDARD
END:VTIMEZONE
BEGIN:VEVENT
DTSTART;TZID=Europe/Paris:20201005T100000
DTEND;TZID=Europe/Paris:20210228T170000
DTSTAMP:20260420T062414
CREATED:20201005T134514Z
LAST-MODIFIED:20201005T134517Z
UID:7301-1601892000-1614531600@siquepasa.com
SUMMARY:"The Story Series" de Carolyn Marks Blackwood
DESCRIPTION:\n\n\n\nThe Story Series\, de la artista estadounidense Carolyn Marks Blackwood\, ganadora de un Oscar y nueve veces nominada. Componen la muestra 52 paisajes de gran formato que funcionan como fotogramas de otras tantas películas de suspense cuyo guión aún no ha sido escrito: corresponde al espectador imaginar su propia historia\, valiéndose de la leyenda que titula cada una de las fotografías. \nInauguración 2 de octubre a las 20 horas en La Lonja del Pescado \nLa exposición\, que podrá verse hasta finales de año\, es pionera de una serie de iniciativas expositivas que CORPO y la Concejalía de Cultura del Ayuntamiento de Alicante proyectan conjuntamente es la primera acción que la Colección Roberto Polo lleva a cabo fuera de su sede en la ciudad de Toledo. \nFechas: \nDe 2 de Octubre de 2020 hasta 21 de Febrero de 2021 \nHorario: 10hs \n  \n\n\n\n\n
URL:https://siquepasa.com/evento/the-story-series-de-carolyn-marks-blackwood/
LOCATION:Alicante\, Alicante\, Alicante\, España
CATEGORIES:Exposición
ATTACH;FMTTYPE=image/jpeg:https://siquepasa.com/wp-content/uploads/20201005_153917.jpg
END:VEVENT
END:VCALENDAR