BEGIN:VCALENDAR
VERSION:2.0
PRODID:-//Si que pasa! - ECPv5.0.2.1//NONSGML v1.0//EN
CALSCALE:GREGORIAN
METHOD:PUBLISH
X-WR-CALNAME:Si que pasa!
X-ORIGINAL-URL:https://siquepasa.com
X-WR-CALDESC:Eventos para Si que pasa!
BEGIN:VTIMEZONE
TZID:Europe/Paris
BEGIN:DAYLIGHT
TZOFFSETFROM:+0100
TZOFFSETTO:+0200
TZNAME:CEST
DTSTART:20200329T010000
END:DAYLIGHT
BEGIN:STANDARD
TZOFFSETFROM:+0200
TZOFFSETTO:+0100
TZNAME:CET
DTSTART:20201025T010000
END:STANDARD
END:VTIMEZONE
BEGIN:VEVENT
DTSTART;TZID=Europe/Paris:20200422T023000
DTEND;TZID=Europe/Paris:20200423T013000
DTSTAMP:20260424T222754
CREATED:20200419T161113Z
LAST-MODIFIED:20200419T161113Z
UID:6383-1587522600-1587605400@siquepasa.com
SUMMARY:Opera de Nueva York gratis: Tosca\, de Puccini.
DESCRIPTION:¿Te imaginas disfrutar del Metropolitan Opera de Nueva York gratis? El MET se suma a la multitud de eventos online para amenizarnos este confiamiento con gran variedad de conciertos online gratuitos. \nEl próximo Martes 12 de abril a las 7:30 hora de Nueva York\, 2:30 de la mañana española\, y durante las 23 horas siguientes\, podrás disfrutar de una de las más aclamadas obras operísicas\, como es: \nTosca\, de Giacomo Puccini – Metropolitan Opera de Nueva York gratis.\nTodo un privilegio poder disfrutar de estos conciertos del teatro de ópera más importante del mundo. Su calidad musical y su puesta en escena son inigualables. \nTosca es una de las óperas más representadas a nivel mundial. Con sus famosas arias «Lucevan le stele» «Te Deum» «Recondita armonia» o «Vissi d´arte» nos pondrá los pelos de punta. \nLa nueva puesta en escena atrevida de Sir David McVicar de Tosca\, el thriller operístico de Puccini sobre la Roma napoleónica\, emocionó al público de Met cuando sonó en el Año Nuevo en 2018. Solo unas semanas después\, la producción fue vista por los amantes de la ópera de todo el mundo como parte de la serie Met’s Live in HD. proyectada en salas de cine. \nEn esta actuación\, la soprano búlgara Sonya Yoncheva es la apasionada diva\, frente al carismático tenor Vittorio Grigolo como su amante\, el pintor idealista Mario Cavaradossi. \nEl barítono Željko Lučić es el amenazante barón Scarpia\, el malvado jefe de policía que emplea tácticas brutales para atrapar a los delincuentes y las conquistas sexuales. \nEn el podio\, Emmanuel Villaume dirige la partitura electrizante\, que presenta algunas de las melodías más memorables de Puccini. \nDuración: 2 horas y 20 minutos. \nAquí podemos ver al gran Lucciano Pavarotti en una grabación de 1978\, también en el Metropolitan Opera de Nueva York. Canta «Recondita Armonia» una de nuestras arias favoritas. \n \nTodos los detalles en la web del MET: https://www.metopera.org/season/on-demand/opera/?upc=811357019337 \n
URL:https://siquepasa.com/evento/opera-de-nueva-york-gratis-tosca-de-puccini/
LOCATION:Online
CATEGORIES:Conciertos Online
ATTACH;FMTTYPE=image/jpeg:https://siquepasa.com/wp-content/uploads/Opera-nueva-york-gratis-Tosca.jpg
END:VEVENT
BEGIN:VEVENT
DTSTART;TZID=Europe/Paris:20200422T173000
DTEND;TZID=Europe/Paris:20200422T183000
DTSTAMP:20260424T222754
CREATED:20200421T100605Z
LAST-MODIFIED:20200421T100605Z
UID:6470-1587576600-1587580200@siquepasa.com
SUMMARY:Social Media Plan: Define la estrategia de tu empresa en Redes Sociales
DESCRIPTION:Con el objetivo de fomentar la innovación y potenciar la formación de emprendedores y empresas el Parque Científico de la UMH ha puesto en marcha un ciclo de formación online. Esta iniciativa está compuesta por diversos contenidos con los que los emprendedores y pymes podrán ampliar su formación y plantarle cara al futuro. \nAdemás\, este ciclo también pone a disposición de emprendedores y empresas algunos de los contenidos que se imparten en los programas de emprendimiento del PCUMH como en la Maratón de Creación de Start-ups UMH o en el Sprint de Creación de Empresas UMH. \n\n¿Quién impartirá la sesión? Paco Hernaiz\, técnico de Comunicación y Marketing del PCUMH\n¿Qué contenidos se tratarán? \n     – Implantación de una estrategia.\n– Herramientas prácticas de apoyo para la implantación y gestión.\n– Ejemplos de referencia \n
URL:https://siquepasa.com/evento/social-media-plan-define-la-estrategia-de-tu-empresa-en-redes-sociales/
LOCATION:Online
CATEGORIES:Webinar
ATTACH;FMTTYPE=image/png:https://siquepasa.com/wp-content/uploads/CF30CAFF-194C-49D0-A4DC-26DF4BE0C769.png
END:VEVENT
BEGIN:VEVENT
DTSTART;TZID=Europe/Paris:20200422T183000
DTEND;TZID=Europe/Paris:20200422T193000
DTSTAMP:20260424T222754
CREATED:20200421T092419Z
LAST-MODIFIED:20200421T092419Z
UID:6466-1587580200-1587583800@siquepasa.com
SUMMARY:#Encuentrosiambiente: ¿cómo afrontar la vuelta tras el coronavirus?
DESCRIPTION:La respuesta institucional ante la crisis provocada por la COVID-19 y la vuelta tras el fin del estado de alarma abrirán el primero de los #encuentrosiambiente en el que participarán las siguientes instituciones presentando sus trabajos en este ámbito: \n– Carlos Mazón\, presidente de la Diputación de Alicante \n– Manuel Palomar\, rector de la Universidad de Alicante \n– Juan José Ruiz\, rector de la Universidad Miguel Hernández \n– Pedro Pernías\, director general para el Avance de la Sociedad Digital (Consellería de Innovación. Generalitat Valenciana) \nCada una de estas entidades está trabajando muy duro durante estos días para combatir y paliar los efectos del coronavirus en la sociedad. Durante la charla\, los representantes de estos organismos explicarán cómo han ido actuando durante este primer mes de estado de alarma y su previsión para cuando este finalice. \n
URL:https://siquepasa.com/evento/encuentrosiambiente-como-afrontar-la-vuelta-tras-el-coronavirus/
LOCATION:Online
CATEGORIES:Webinar
ATTACH;FMTTYPE=image/jpeg:https://siquepasa.com/wp-content/uploads/7018CA51-ED39-46AB-8AC3-C4297CC7D9C5.jpeg
END:VEVENT
END:VCALENDAR