BEGIN:VCALENDAR
VERSION:2.0
PRODID:-//Si que pasa! - ECPv5.0.2.1//NONSGML v1.0//EN
CALSCALE:GREGORIAN
METHOD:PUBLISH
X-WR-CALNAME:Si que pasa!
X-ORIGINAL-URL:https://siquepasa.com
X-WR-CALDESC:Eventos para Si que pasa!
BEGIN:VTIMEZONE
TZID:Europe/Paris
BEGIN:DAYLIGHT
TZOFFSETFROM:+0100
TZOFFSETTO:+0200
TZNAME:CEST
DTSTART:20200329T010000
END:DAYLIGHT
BEGIN:STANDARD
TZOFFSETFROM:+0200
TZOFFSETTO:+0100
TZNAME:CET
DTSTART:20201025T010000
END:STANDARD
END:VTIMEZONE
BEGIN:VEVENT
DTSTART;TZID=Europe/Paris:20200422T023000
DTEND;TZID=Europe/Paris:20200423T013000
DTSTAMP:20260424T205644
CREATED:20200419T161113Z
LAST-MODIFIED:20200419T161113Z
UID:6383-1587522600-1587605400@siquepasa.com
SUMMARY:Opera de Nueva York gratis: Tosca\, de Puccini.
DESCRIPTION:¿Te imaginas disfrutar del Metropolitan Opera de Nueva York gratis? El MET se suma a la multitud de eventos online para amenizarnos este confiamiento con gran variedad de conciertos online gratuitos. \nEl próximo Martes 12 de abril a las 7:30 hora de Nueva York\, 2:30 de la mañana española\, y durante las 23 horas siguientes\, podrás disfrutar de una de las más aclamadas obras operísicas\, como es: \nTosca\, de Giacomo Puccini – Metropolitan Opera de Nueva York gratis.\nTodo un privilegio poder disfrutar de estos conciertos del teatro de ópera más importante del mundo. Su calidad musical y su puesta en escena son inigualables. \nTosca es una de las óperas más representadas a nivel mundial. Con sus famosas arias «Lucevan le stele» «Te Deum» «Recondita armonia» o «Vissi d´arte» nos pondrá los pelos de punta. \nLa nueva puesta en escena atrevida de Sir David McVicar de Tosca\, el thriller operístico de Puccini sobre la Roma napoleónica\, emocionó al público de Met cuando sonó en el Año Nuevo en 2018. Solo unas semanas después\, la producción fue vista por los amantes de la ópera de todo el mundo como parte de la serie Met’s Live in HD. proyectada en salas de cine. \nEn esta actuación\, la soprano búlgara Sonya Yoncheva es la apasionada diva\, frente al carismático tenor Vittorio Grigolo como su amante\, el pintor idealista Mario Cavaradossi. \nEl barítono Željko Lučić es el amenazante barón Scarpia\, el malvado jefe de policía que emplea tácticas brutales para atrapar a los delincuentes y las conquistas sexuales. \nEn el podio\, Emmanuel Villaume dirige la partitura electrizante\, que presenta algunas de las melodías más memorables de Puccini. \nDuración: 2 horas y 20 minutos. \nAquí podemos ver al gran Lucciano Pavarotti en una grabación de 1978\, también en el Metropolitan Opera de Nueva York. Canta «Recondita Armonia» una de nuestras arias favoritas. \n \nTodos los detalles en la web del MET: https://www.metopera.org/season/on-demand/opera/?upc=811357019337 \n
URL:https://siquepasa.com/evento/opera-de-nueva-york-gratis-tosca-de-puccini/
LOCATION:Online
CATEGORIES:Conciertos Online
ATTACH;FMTTYPE=image/jpeg:https://siquepasa.com/wp-content/uploads/Opera-nueva-york-gratis-Tosca.jpg
END:VEVENT
BEGIN:VEVENT
DTSTART;VALUE=DATE:20200423
DTEND;VALUE=DATE:20200424
DTSTAMP:20260424T205644
CREATED:20200421T100642Z
LAST-MODIFIED:20200421T100642Z
UID:6473-1587600000-1587686399@siquepasa.com
SUMMARY:Introducción al community management
DESCRIPTION:Este mes de abril es muy especial para nosotros\, ya que cumplimos 5 años. Sabemos que estamos en circunstancias distintas y que hoy más que nunca\, nuestro propósito de seguir llevando a educación a más personas se hace más fuerte. Por eso\, todos los días tendrás un curso gratis\, que estará disponible por 24 horas. ¡Porque conectados crecemos todos! \nTe recomendamos siempre volver a esta nota\, donde iremos actualizando los accesos a los cursos. \n¡Disponibles por 24 horas! \n
URL:https://siquepasa.com/evento/introduccion-al-community-management/
LOCATION:Online
CATEGORIES:Clases Online,Cursos online gratis
ATTACH;FMTTYPE=image/jpeg:https://siquepasa.com/wp-content/uploads/6C71B58D-3104-4867-BE19-F55B758471C9.jpeg
END:VEVENT
BEGIN:VEVENT
DTSTART;TZID=Europe/Paris:20200423T180000
DTEND;TZID=Europe/Paris:20200423T180000
DTSTAMP:20260424T205644
CREATED:20200421T101139Z
LAST-MODIFIED:20200421T101139Z
UID:6497-1587664800-1587664800@siquepasa.com
SUMMARY:WORKSHOP ONLINE - DISEÑO DE CALZADO
DESCRIPTION:CocoSchool prestigiosa escuela de formación presenta: \nIrene Brotóns\, Directora del Máster en Diseño de Calzado\, te enseñará a como crear un diseño de zapatos a través del análisis de la horma\, la suela y el tacón. ¿De qué hablamos cuando hablamos de tendencias en calzado? \nRegístrate ahora para reservar una plaza\, pero recuerda que el email de acceso a la plataforma online lo recibirás el mismo día del evento. \n
URL:https://siquepasa.com/evento/workshop-online-diseno-de-calzado/
LOCATION:Online
CATEGORIES:Clases Online,Webinar
ATTACH;FMTTYPE=image/png:https://siquepasa.com/wp-content/uploads/8E726D02-D440-4206-BFA9-AF072E567902.png
END:VEVENT
END:VCALENDAR