BEGIN:VCALENDAR
VERSION:2.0
PRODID:-//Si que pasa! - ECPv5.0.2.1//NONSGML v1.0//EN
CALSCALE:GREGORIAN
METHOD:PUBLISH
X-WR-CALNAME:Si que pasa!
X-ORIGINAL-URL:https://siquepasa.com
X-WR-CALDESC:Eventos para Si que pasa!
BEGIN:VTIMEZONE
TZID:Europe/Paris
BEGIN:DAYLIGHT
TZOFFSETFROM:+0100
TZOFFSETTO:+0200
TZNAME:CEST
DTSTART:20200329T010000
END:DAYLIGHT
BEGIN:STANDARD
TZOFFSETFROM:+0200
TZOFFSETTO:+0100
TZNAME:CET
DTSTART:20201025T010000
END:STANDARD
END:VTIMEZONE
BEGIN:VEVENT
DTSTART;VALUE=DATE:20200430
DTEND;VALUE=DATE:20200501
DTSTAMP:20260424T104310
CREATED:20200421T101039Z
LAST-MODIFIED:20200421T101039Z
UID:6494-1588204800-1588291199@siquepasa.com
SUMMARY:Nutrición saludable
DESCRIPTION:Este mes de abril es muy especial para nosotros\, ya que cumplimos 5 años. Sabemos que estamos en circunstancias distintas y que hoy más que nunca\, nuestro propósito de seguir llevando a educación a más personas se hace más fuerte. Por eso\, todos los días tendrás un curso gratis\, que estará disponible por 24 horas. ¡Porque conectados crecemos todos! \nTe recomendamos siempre volver a esta nota\, donde iremos actualizando los accesos a los cursos. \n¡Disponibles por 24 horas! \n
URL:https://siquepasa.com/evento/nutricion-saludable/
LOCATION:Online
CATEGORIES:Clases Online,Cursos online gratis
ATTACH;FMTTYPE=image/jpeg:https://siquepasa.com/wp-content/uploads/C69BE07A-9B63-4F08-8822-8EDAFA3385E5.jpeg
END:VEVENT
BEGIN:VEVENT
DTSTART;TZID=Europe/Paris:20200430T183000
DTEND;TZID=Europe/Paris:20200430T193000
DTSTAMP:20260424T104310
CREATED:20200427T170324Z
LAST-MODIFIED:20200427T170324Z
UID:6647-1588271400-1588275000@siquepasa.com
SUMMARY:Creatividad y estrategia para más engagement y tráfico en Instagram
DESCRIPTION:Creatividad con estrategia: La combinación perfecta para aumentar tu engagement y tráfico en Instagram.\nEn este taller aprenderás las bases para crear contenido en Instagram que genere resultados y aumente tu engagement y alcance. \nAprenderás a utilizar la creatividad para crear una estrategia con contenido que resalte\, mientras utilizas herramientas como el storytelling para generar conexiones reales con tu usuario. Hablaremos de temas básicos de diseño y dirección de arte para hacer un feed consistente con armonía\, daremos tips para crear stories atractivos y discutiremos diferentes herramientas para hacer una planificación eficiente. \n
URL:https://siquepasa.com/evento/creatividad-y-estrategia-para-mas-engagement-y-trafico-en-instagram/
LOCATION:Online
CATEGORIES:Clases Online,Webinar
ATTACH;FMTTYPE=image/png:https://siquepasa.com/wp-content/uploads/437D9271-A749-4F79-B116-BFA6DB971A32.png
END:VEVENT
END:VCALENDAR