BEGIN:VCALENDAR
VERSION:2.0
PRODID:-//Si que pasa! - ECPv5.0.2.1//NONSGML v1.0//EN
CALSCALE:GREGORIAN
METHOD:PUBLISH
X-WR-CALNAME:Si que pasa!
X-ORIGINAL-URL:https://siquepasa.com
X-WR-CALDESC:Eventos para Si que pasa!
BEGIN:VTIMEZONE
TZID:Europe/Paris
BEGIN:DAYLIGHT
TZOFFSETFROM:+0100
TZOFFSETTO:+0200
TZNAME:CEST
DTSTART:20200329T010000
END:DAYLIGHT
BEGIN:STANDARD
TZOFFSETFROM:+0200
TZOFFSETTO:+0100
TZNAME:CET
DTSTART:20201025T010000
END:STANDARD
BEGIN:DAYLIGHT
TZOFFSETFROM:+0100
TZOFFSETTO:+0200
TZNAME:CEST
DTSTART:20210328T010000
END:DAYLIGHT
BEGIN:STANDARD
TZOFFSETFROM:+0200
TZOFFSETTO:+0100
TZNAME:CET
DTSTART:20211031T010000
END:STANDARD
END:VTIMEZONE
BEGIN:VEVENT
DTSTART;TZID=Europe/Paris:20201001T100000
DTEND;TZID=Europe/Paris:20210109T170000
DTSTAMP:20260420T074418
CREATED:20200930T162022Z
LAST-MODIFIED:20200930T162155Z
UID:7227-1601546400-1610211600@siquepasa.com
SUMMARY:EXPOSICIÓN. ENSAYO ANTES DE LA ACTUACIÓN
DESCRIPTION:\n\n\n\nEnsayo antes de la actuación\nOctubre 2020 – enero 2021\nInauguración 1 de octubre a las 20 horas. Caja Blanca de Las Cigarreras \nExposición dentro de la Convocatoria Buitblanc de la Concejalía de Cultura\, Centro Cultural Las Cigarreras \nRosana Antolí / Gonzalo Puch / Zilvinas Landzbergas / Julia Mariscal / Rodríguez-Méndez / Eduardo Infante. Comisaria\, Diana Guijarro \nLa exposición Ensayo antes de la actuación es un proyecto de investigación curatorial que busca generar un territorio en proceso de crecimiento. Una especie de fase  preparatoria donde las diferentes propuestas se encaminan a reflexionar sobre la presencia corporal\, sobre las posibles interacciones entre los cuerpos y el espacio\, y\nen cómo las partes pueden convertirse en un todo complementario. \nLa propuesta pretende profundizar en las múltiples posibilidades que nos brinda el ensayo y el error entendidos como experimento abierto a la incertidumbre\, una prueba\npara conocer si algo funciona o no y en base a esto\, ajustarnos y enlazarnos en una supuesta sincronización dentro de un entorno que se encuentra marcado por diferentes pautas. \nDe esta forma la exposición se entiende como un espacio dinámico\, un lugar que los artistas harán crecer exponencialmente a través de una serie de actividades que\nbuscarán la participación activa de los diferentes públicos. \n\n\n\n\nDesde el 1 de octubre hasta el 9 de enero del 2021\nHorario\, 20hs\nDónde? Centro cultural las Cigarreras\n
URL:https://siquepasa.com/evento/exposicion-ensayo-antes-de-la-actuacion/
LOCATION:Alicante\, Alicante\, Alicante\, España
CATEGORIES:Exposición
ATTACH;FMTTYPE=image/jpeg:https://siquepasa.com/wp-content/uploads/20200930_181855.jpg
END:VEVENT
BEGIN:VEVENT
DTSTART;TZID=Europe/Paris:20201005T080000
DTEND;TZID=Europe/Paris:20210131T170000
DTSTAMP:20260420T074418
CREATED:20201001T123247Z
LAST-MODIFIED:20201001T123249Z
UID:7259-1601884800-1612112400@siquepasa.com
SUMMARY:MENUTS BARRIS 2020 - 21
DESCRIPTION:La muestra de artes escénicas para la infancia y la juventud Menuts Barris\, incluida como la franja de actividades más importante de la programación de otoño-invierno de Cultura en Barrios\, retorna tras el rotundo éxito de las anteriores ediciones. Lo hace con el doble de obras y grupos artísticos. Más de treinta funciones de teatro\, danza\, magia\, narrativa oral\, conciertos didácticos\, entre octubre y enero\, distribuidas en nueve localizaciones diferentes de toda la ciudad (Centros Sociales comunitarios\, Centro de las Artes\, Centro Cultural Cigarreras\, Aula de Cultura Fundación Mediterráneo y Teatro Principal ) \nGracias a la colaboración entre varias concejalías del Ayuntamiento (Cultura\, Acción Social\, Igualdad y Juventud)\, la Diputación de Alicante\, la Muestra de Teatro Español de Autores Contemporáneos y el Teatro Principal\, en esta tercera edición\, volvemos a acercar las artes escénicas a los más jóvenes y pequeños. \nENTRADAS – INVITACIONES\nEl acceso a las actuaciones será mediante entrada-invitación que sólo se podrán reservar online desde http://alicantesociocultura.eventbrite.es \, a partir del lunes 5 de octubre  hasta agotar existencias. Una misma persona titular e-mail solo podrá adquirir hasta 4 invitaciones para cada función. Se ruega se reserven solo aquellas invitaciones que realmente se vayan a utilizar\, con el fin de facilitar la asistencia a otras personas interesadas. Si en alguna función quedaran localidades disponibles\, el aforo establecido se completaría con asistentes a la representación sin entrada-invitación reservada. \n
URL:https://siquepasa.com/evento/menuts-barris-2020-21/
LOCATION:Alicante\, Alicante\, Alicante\, España
CATEGORIES:Exposición
ATTACH;FMTTYPE=image/jpeg:https://siquepasa.com/wp-content/uploads/20201001_142853.jpg
END:VEVENT
BEGIN:VEVENT
DTSTART;TZID=Europe/Paris:20201005T100000
DTEND;TZID=Europe/Paris:20210228T170000
DTSTAMP:20260420T074418
CREATED:20201005T134514Z
LAST-MODIFIED:20201005T134517Z
UID:7301-1601892000-1614531600@siquepasa.com
SUMMARY:"The Story Series" de Carolyn Marks Blackwood
DESCRIPTION:\n\n\n\nThe Story Series\, de la artista estadounidense Carolyn Marks Blackwood\, ganadora de un Oscar y nueve veces nominada. Componen la muestra 52 paisajes de gran formato que funcionan como fotogramas de otras tantas películas de suspense cuyo guión aún no ha sido escrito: corresponde al espectador imaginar su propia historia\, valiéndose de la leyenda que titula cada una de las fotografías. \nInauguración 2 de octubre a las 20 horas en La Lonja del Pescado \nLa exposición\, que podrá verse hasta finales de año\, es pionera de una serie de iniciativas expositivas que CORPO y la Concejalía de Cultura del Ayuntamiento de Alicante proyectan conjuntamente es la primera acción que la Colección Roberto Polo lleva a cabo fuera de su sede en la ciudad de Toledo. \nFechas: \nDe 2 de Octubre de 2020 hasta 21 de Febrero de 2021 \nHorario: 10hs \n  \n\n\n\n\n
URL:https://siquepasa.com/evento/the-story-series-de-carolyn-marks-blackwood/
LOCATION:Alicante\, Alicante\, Alicante\, España
CATEGORIES:Exposición
ATTACH;FMTTYPE=image/jpeg:https://siquepasa.com/wp-content/uploads/20201005_153917.jpg
END:VEVENT
BEGIN:VEVENT
DTSTART;TZID=Europe/Paris:20201005T120000
DTEND;TZID=Europe/Paris:20210228T170000
DTSTAMP:20260420T074418
CREATED:20201005T135453Z
LAST-MODIFIED:20201005T135454Z
UID:7305-1601899200-1614531600@siquepasa.com
SUMMARY:Exposición. "Fuencisla Francés. Punto de fuga"
DESCRIPTION:Fuencisla Francés. Punto de fuga’\, es el resultado expositivo de un proyecto presentado a la convocatoria pública “Trajectòries. 2018-2020” del Consorci de Museus de la Comunitat Valenciana\, que tiene como objetivo mostrar y analizar en profundidad la obra de artistas o colectivos artísticos que han desarrollado su carrera plástica en la Comunitat Valenciana. \nEste proyecto se inauguró en el Centre del Carme Cultura Contemporània el 21 de diciembre de 2019 por lo que se ha realizado una adaptación de la propuesta inicial para esta Sala Municipal de Exposiciones Lonja del Pescado de Alicante en la que se muestra una cuidada selección de su obra\, realizada durante cincuenta años de intensa y extensa creatividad. Fuencisla Francés es descendiente de una de las sagas artísticas más importantes de la Comunitat Valenciana\, que tuvo su origen a mediados del siglo XIX con los alcoyanos Plácido Francés y Emilio Sala Francés\, artistas y profesores\, con obra en importantes colecciones internacionales y galardonados con numerosos premios en las Exposiciones Nacionales de Bellas Artes y en los Salones de París\, Múnich o Berlín. Esta herencia marcó\, sin duda\, el interés creciente de Fuencisla por las Artes. \nInauguración 2 de octubre a las 12 h. \nComisariado: Pilar Tébar \nOrganiza: Consorci de Museus de la Comunitat Valenciana \nColabora: Ayuntamiento de Alicante \nFechas: \nDe 2 de Octubre de 2020 hasta 21 de Febrero de 2021 \n
URL:https://siquepasa.com/evento/exposicion-fuencisla-frances-punto-de-fuga/
LOCATION:Alicante\, Alicante\, Alicante\, España
CATEGORIES:Exposición
ATTACH;FMTTYPE=image/jpeg:https://siquepasa.com/wp-content/uploads/20201005_155037.jpg
END:VEVENT
BEGIN:VEVENT
DTSTART;TZID=Europe/Paris:20201005T123000
DTEND;TZID=Europe/Paris:20210131T170000
DTSTAMP:20260420T074418
CREATED:20201005T135942Z
LAST-MODIFIED:20201005T135944Z
UID:7309-1601901000-1612112400@siquepasa.com
SUMMARY:Exposición "Juan Martín Zermeño\, las fortificaciones abaluartadas del siglo XVIII"
DESCRIPTION:Inauguración\, lunes 5 de octubre a las 12.30 horas \nLa exposición «Juan Martín Zermeño\, las fortificaciones abaluartadas del siglo XVIII» está producida por la Asociación de Amigos del Castillo de Montjuic. A través del convenio firmado por esta entidad con la Concejalía de Cultura del Ayuntamiento de Alicante\, ha sido posible traer esta muestra a nuestra Ciudad\, siendo en la sala «Taberna» del Castillo de Santa Bárbara donde se pueda contemplar entre el 5 de octubre de este año y el 31 de enero de 2021\, con libre acceso a todos los interesados. \nLa exposición consta básicamente de una serie de paneles donde se hace un recorrido por la biografía y los numerosos trabajos de ingeniería militar de uno de los más destacados ingenieros militares del siglo XVIII\, como fue Juan Martín Zermeño. Nombrado como Ingeniero General del Cuerpo de Ingenieros Militares de Su Majestad\, Zermeño desarrolló multitud de trabajos en Cataluña\, en las líneas fronterizas hispano francesas y lusas\, así como en las defensas de las posesiones hispanas en Ultramar. También dirigió un proyecto de refuerzo de las defensas del Castillo de Alicante\, con trabajos de diseño fechados a mediados de siglo\, tal como se refleja en los paneles dedicados a su labor en la ciudad alicantina. \nSe podrá visitar en la Sala Taberna en el Castillo de Santa Bárbara\, con libre acceso hasta el 31 de enero de 2021 \nHorarios: \nInvierno (1 de octubre a 31 de marzo): \nDe 10:00 a 20:00h. Todos los días. \nFechas: \nDe 5 de Octubre de 2020 hasta 31 de Enero de 2021 \nHorario: \n10:00h- 20:00h \nDónde se realiza: \nCastillo de Santa Bárbara \n
URL:https://siquepasa.com/evento/exposicion-juan-martin-zermeno-las-fortificaciones-abaluartadas-del-siglo-xviii/
LOCATION:Alicante
CATEGORIES:Exposición
ATTACH;FMTTYPE=image/jpeg:https://siquepasa.com/wp-content/uploads/20201005_155627.jpg
END:VEVENT
END:VCALENDAR