BEGIN:VCALENDAR
VERSION:2.0
PRODID:-//Si que pasa! - ECPv5.0.2.1//NONSGML v1.0//EN
CALSCALE:GREGORIAN
METHOD:PUBLISH
X-WR-CALNAME:Si que pasa!
X-ORIGINAL-URL:https://siquepasa.com
X-WR-CALDESC:Eventos para Si que pasa!
BEGIN:VTIMEZONE
TZID:Europe/Paris
BEGIN:DAYLIGHT
TZOFFSETFROM:+0100
TZOFFSETTO:+0200
TZNAME:CEST
DTSTART:20200329T010000
END:DAYLIGHT
BEGIN:STANDARD
TZOFFSETFROM:+0200
TZOFFSETTO:+0100
TZNAME:CET
DTSTART:20201025T010000
END:STANDARD
END:VTIMEZONE
BEGIN:VEVENT
DTSTART;TZID=Europe/Paris:20201001T080000
DTEND;TZID=Europe/Paris:20201231T170000
DTSTAMP:20260424T105516
CREATED:20200929T121146Z
LAST-MODIFIED:20200929T121149Z
UID:7213-1601539200-1609434000@siquepasa.com
SUMMARY:El Teatro Principal de Alicante presenta su programación con obras en tres idiomas y un estreno nacional
DESCRIPTION:El cartel para otoño/invierno complementa al que fue aplazado el pasado marzo y comienza con la 11ª edición de Circarte. \nEl Teatro Principal de Alicante ha ofrecido detalles de su temporada Otoño/Invierno\, que incluye teatro en castellano\, valenciano e inglés\, circo\, zarzuela\, música\, danza\, espectáculos para los más pequeños y un estreno nacional. \nEl concejal de Cultura\, Antonio Manresa; la delegada territorial del Institut Valencià de Cultura en Alicante\, Alicia Garijo\, y la subdirectora María Dolores Padilla presentaron este viernes en el vestíbulo del teatro un avance de la Programación Otoño/Invierno 2020/2021\, que complementa a la que fue aplazada en marzo pasado y que cuenta con el apoyo de Fundación Banco Sabadell. \nTambién se ha avanzado la fecha del estreno del montaje ganador de la III Residencia José Estruch\, la obra de Francisco Suarez ‘La langosta no se ha posado’ de Maror Produccions dirigida por Iván Jiménez\, y protagonizada por Elena Candela\, Mila García\, Diego L. Juan García y Tomàs Mestre que se estrenará el sábado 10 de abril. \nEsta nueva programación que va de octubre 2020 a enero 2021 arranca con la 11ª edición del Festival de Circo Circarte. Incluye la segunda creación de la compañía madrileña NUEVEUNO ‘Suspensión’ el próximo jueves 22 de octubre a las 20.30 horas. \n‘Las cosas que no son verdad’\nContinuará con una obra de teatro contemporáneo que retrata los mecanismos de la familia y del matrimonio desde el punto de vista de cuatro hijos que se esfuerzan por ser ellos mismos más allá de las expectativas y del amor de sus padres. \nSe trata de ‘Las cosas que sé que son de verdad’\, que se representará el próximo sábado 24 y domingo 25 de octubre a las 20 h y 18 h respectivamente. La actriz Verónica Forqué ha ganado el Premio Max 2020 y el Premio de la Unión de Actores y Actrices 2020 a Mejor Actriz por su papel protagonista en esta obra. \n‘El enjambre’\nEl domingo 15 de noviembre a las 18 horas llegará al Teatro Principal la obra ‘El Enjambre’\, una comedia sobre la amistad y sus secretos. La compañía vasca presenta esta comedia que parte del reencuentro de seis amigas de la infancia que acuden a una casa rural para celebrar la despedida de soltera de una de ellas. \nEl Teatro ofrece un plan para que tanto los más pequeños como los mayores disfruten de los cuentos tradicionales en inglés con ‘Snow White and the Seven Dwarfs’ el domingo 29 de noviembre a las 18 horas. \n‘Poder i santedat’ \nEl sábado 5 de diciembre a las 20 horas\, el Principal acogerá ‘Poder i santedat’\, una producción del Institut Valencià de Cultura y la Diputación de Valencia en valenciano que se adentra en el mundo del Vaticano y trata dos de sus problemas: la corrupción económica y la homofobia\, ambas contrarias a la doctrina cristiana. \n‘Poder i Santedat’\, de Manuel Molins con la dirección de Paco Azorín\, refleja la interpretación habitual de la Iglesia sobre la sodomía como pecado sexual\, cuando en realidad es un pecado social. \n‘CARMEN.maquia’\nEl próximo viernes 11 de diciembre a las 20.30 horas los amantes de la danza tendrán una cita imprescindible con ‘CARMEN.maquia’\, una versión contemporánea del clásico de Merimée manteniendo el argumento operístico\, con la colaboración de David Delfín en uno de sus últimos diseños para danza. \nEste espectáculo fue reconocido como Mejor Espectáculo de Danza en los Premios de las Artes Escénicas Valencianas 2019. Calificada por Chicago Sun como obra maestra\, es la pieza culminante de Gustavo Ramírez al frente de Luna Negra en Chicago. \n‘Rapunzel’\n‘Rapunzel\, el Musical’ llegará al Teatro Principal en una nueva adaptación de gran formato para toda la familia el jueves 17 de diciembre a las 18.30 horas. Una producción para que niños y padres disfruten en familia y vivan la magia de la princesa Rapunzel. \nEl viernes 18 de diciembre a las 19 horas es el turno del género lírico con la zarzuela ‘El huésped del sevillano’. La Compañía Lírica Alicantina se une para representar la obra de Jacinto Guerrero sobre el libreto de Luca de Tena y Enrique Reoyo\, que se estrenó por primera vez en 1926 en el Teatro Apolo de Madrid. \nCantaJuego cumple 15 años y presenta su nuevo espectáculo ‘Te extiendo mi mano’ el próximo sábado 19 de diciembre a las 17 horas. Entregará al público un montaje especial basado en la solidaridad\, la amistad\, el trabajo en equipo y la empatía con una esmerada selección de su larga lista de éxitos. \n‘Mariana Pineda’\nEl domingo 20 de diciembre a las 18 horas será el turno de ‘Mariana Pineda’. GG Producción Escénica\, Teatro del Nómada y Saga Producciones adaptan la obra de Federico García Lorca y muestran que en ocasiones el «amor es un mar profundo donde morimos ahogados\, un lugar que al mismo tiempo es prisión y horizonte\, un tiempo parado donde ni tan siquiera el aire sucede». \nEl jueves 28 de enero a las 20.30 horas\, el Principal rendirá homenaje al legado de uno de los músicos más camaleónicos e influyentes de la historia de la música. El espectáculo ‘Shuarma canta Bowie’ repasa durante 90 minutos la trayectoria de David Bowie\, desnudando sus canciones más grandes y aportando una visión única e intimista de una de las figuras más icónicas de la cultura musical. \nY en la primavera del 2021\, el Teatro Principal contará con el estreno nacional del clásico ‘La casa de Bernarda Alba’ de Federico García Lorca dirigida por José Carlos Plaza los días 27 de marzo a las 20 h y 28 de marzo a las 18 h coincidiendo además con el Día Mundial del Teatro. \n
URL:https://siquepasa.com/evento/el-teatro-principal-de-alicante-presenta-su-programacion-con-obras-en-tres-idiomas-y-un-estreno-nacional/
LOCATION:Alicante\, Alicante\, Alicante\, España
CATEGORIES:Concierto,Teatro
ATTACH;FMTTYPE=image/jpeg:https://siquepasa.com/wp-content/uploads/20200929_141039.jpg
END:VEVENT
BEGIN:VEVENT
DTSTART;VALUE=DATE:20201002
DTEND;VALUE=DATE:20201101
DTSTAMP:20260424T105516
CREATED:20200925T092007Z
LAST-MODIFIED:20200925T092010Z
UID:7130-1601596800-1604188799@siquepasa.com
SUMMARY:Noches mediterráneas
DESCRIPTION:Noches mediterráneas presenta el calendario de actividades\, conciertos de octubre\, al aire libre. \nNO SE LO PIERDAN! \nAFORO LIMITADO. \n \n
URL:https://siquepasa.com/evento/noches-mediterraneas/
LOCATION:Alicante
CATEGORIES:Concierto
END:VEVENT
BEGIN:VEVENT
DTSTART;VALUE=DATE:20201002
DTEND;VALUE=DATE:20201101
DTSTAMP:20260424T105516
CREATED:20201001T122152Z
LAST-MODIFIED:20201001T122153Z
UID:7257-1601596800-1604188799@siquepasa.com
SUMMARY:ARA MALIKIAN\, RAYDEN Y XOEL LÓPEZ PROTAGONIZAN LA PROGRAMACIÓN DE NOCHES MEDITERRÁNEAS
DESCRIPTION:Cultura amplia la programación del ciclo a octubre con conciertos en directo\, shows infantiles y espectáculos de humor. \nTras el éxito rotundo de Noches Mediterráneas y la enorme acogida del público durante este verano\, con directos como los de Amaral\, Izal\, Viva Suecia o Carolina Durante\, la concejalía de Cultura\, que dirige Antonio Marresa\, ha decidido prolongar la programación del ciclo a octubre con conciertos en directo\, shows infantiles y espectáculos de humor. \nAntonio Manresa ha señalado que “Alicante va a tener una gran otoño cultural\, con exposiciones de primer nivel como la que se inaugura mañana en la Lonja\, además de las que pueden visitarse en el complejo cultural de Las Cigarreras\, a la que se va a añadir la prolongación del ciclo Noches Mediterráneas con una completa programación de propuestas de primer nivel que van desde conciertos\, monólogos y espectáculos para todos los públicos con el objetivo de reforzar la oferta cultural de la ciudad y su capacidad de atracción\, además de impulsar al sector”. \n“Estamos ya pensando en el año que viene para que Noches Mediterráneas vuelva a estar en el mismo lugar ampliando fechas y espacios para disponer de un gran espacio musical en la ciudad de Alicante que sea polo de atracción para personas procedentes de la provincia y otros puntos de España” ha comentado Manresa. \n“Emerge Alicante también se va a ampliar en diciembre diez o doce bandas van a actual y van a versionar cada uno en su estilo un villancico para apoyar a las bandas alicantinas\, además de llevar el Festival de Teatro Clásico de Alicante a este escenario del puerto en un ciclo concentrado para incorporar las artes escénicas a este marco incomparable con el castillo de Santa Bárbara al fondo” ha anunciado el concejal. \nJosé Piñero\, responsable de la empresa organizadora Baltimore Producciones\, ha destacado por su parte “la importancia de la ampliación de este certamen que hasta la fecha ha contado con 34 espectáculos en 45 días con más de 25.000 asistentes en un contexto de pandemia\, donde las medidas anti covid aplicadas han permitido 0 contagios y la mayor seguridad para los espectadores”. \nPiñero ha resaltado la presencia de figuras de primer nivel del mundo de la música como Ara Malikian y la llegada de nuevos espectáculos como los monólogos con primeras figuras nacionales de la talla de Pablo Carbonell y el refuerzo con la presencia de bandas musicales alicantinas y espectáculos infantiles a cargo de compañías también de esta zona. \nConciertos\, shows y gastronomía de primer nivel \nOnce nuevas citas volverán a llenar la Zona Volvo del Puerto de Alicante de cultura\, música\, comedia y reuniones para toda la familia. En el plano musical\, esta vez pasarán por el escenario de Noches Mediterráneas\, en orden cronológico\, Amatria\, Ara Malikian\, Xoél López\, Rayden y Marwan. Nuevos directos al aire libre con aforo reducido\, distribuidos por localidades y adaptados a las nuevas medidas de protocolo sanitario que se llevan a cabo desde el inicio de este ciclo cultural. \nUna nueva programación dedicada a la comedia y los monólogos llega al espacio Noches Mediterráneas\, con invitados de la talla de Pablo Carbonell\, La Farmacia (con Pablo Chiapella\, Tian Lara y Fran Pati) o Sara Escudero. No faltarán las fechas dedicadas a los más pequeños\, con un nuevo listado de shows infantiles y matinales programados para el mes de octubre: Aterrizaje Cuentoso + El Payaso Edy\, Pepica y los Bichejos + El Payaso Edy y El Circo del Payaso Tallarín (el aclamado espectáculo de la familia Cantajuego). \nLos aperitivos musicales también pasan a formar parte del programa de octubre. Cada domingo del mes\, con acceso libre hasta completar aforo\, la “Zona Gastro Club” se llena de conciertos en directo\, vermuts y foodtrucks con los directos de artistas alicantinos como Supersonics\, The Empty Bottles\, Xeco Rojo y Billy Mandanga. \nAdemás de la “Zona Gastro Club”\, la organización hoy confirma una nueva oportunidad de disfrutar de la gastronomía local con su “Street Food Market”\, que aterrizará en el espacio del 9 al 12 de octubre. Por último\, el exitoso MOA (Mercat Obert d’Alacant) celebrará su segunda edición en Noches Mediterráneas durante los días 3 y 4 de octubre\, de 11h a 19h. Toda una oportunidad para apoyar el talento levantino con su propio market\, talleres\, diseño y artesanía. \nProtocolo sanitario en Noches Mediterráneas \nCada velada se llevará a cabo respetando las medidas de higiene y seguridad anti Covid-19: directos al aire libre\, aforo reducido\, público organizado por asientos con localidades\, distancia de seguridad de 1.5m entre asistentes\, utilización de mascarillas de manera obligatoria\, espacio acondicionado con dispensadores automáticos de gel hidroalcohólico en accesos y baños\, desinfección y limpieza del espacio antes\, durante y después del evento\, vasos de un solo uso. \nEntradas a la venta mañana \nLas entradas están disponibles en producciones baltimore.es y nochesmediterraneasalicante.es. \n  \nNoches Mediterráneas- octubre \nCONCIERTOS \nSábado 3 octubre – AMATRIA \nViernes 16 octubre – ARA MALIKIAN \nSábado 17 octubre – XOEL LÓPEZ \nSábado 24 octubre – RAYDEN \nSábado 31 octubre – MARWAN \n  \nCOMEDIA \nViernes 2 octubre – PABLO CARBONELL \nViernes 23 octubre – LA FARMACIA con PABLO CHIAPELLA\, TIAN LARA Y FRAN PATI \nViernes 30 octubre – SARA ESCUDERO \n  \nINFANTIL \nSábado 3 octubre – ATERRIZAJE CUENTOSO + EL PAYASO EDY \nSábado 17 octubre – PEPICA Y LOS BICHEJOS + EL PAYASO EDY \nSábado 24 octubre – CANTAJUEGO: EL CIRCO DEL PAYASO TALLARÍN \n  \nMOA (MERCAT OBERT D’ALACANT) \nSabado 3 octubre y domingo 4 octubre \n  \nSTREET FOOD MARKET \nViernes 9 octubre a lunes 12 octubre \n  \nPara más información\, contacta con: \ncomunicacion@produccionesbaltimore.es \n
URL:https://siquepasa.com/evento/ara-malikian-rayden-y-xoel-lopez-protagonizan-la-programacion-de-noches-mediterraneas/
LOCATION:Alicante
CATEGORIES:Concierto
ATTACH;FMTTYPE=image/jpeg:https://siquepasa.com/wp-content/uploads/20200925_111806.jpg
END:VEVENT
END:VCALENDAR